BEGIN:VCALENDAR
VERSION:2.0
PRODID:-//LokalPatriot - ECPv6.15.13.1//NONSGML v1.0//EN
CALSCALE:GREGORIAN
METHOD:PUBLISH
X-WR-CALNAME:LokalPatriot
X-ORIGINAL-URL:https://lokalpatriot.si
X-WR-CALDESC:Dogodki za LokalPatriot
REFRESH-INTERVAL;VALUE=DURATION:PT1H
X-Robots-Tag:noindex
X-PUBLISHED-TTL:PT1H
BEGIN:VTIMEZONE
TZID:Europe/Ljubljana
BEGIN:DAYLIGHT
TZOFFSETFROM:+0100
TZOFFSETTO:+0200
TZNAME:CEST
DTSTART:20140330T010000
END:DAYLIGHT
BEGIN:STANDARD
TZOFFSETFROM:+0200
TZOFFSETTO:+0100
TZNAME:CET
DTSTART:20141026T010000
END:STANDARD
BEGIN:DAYLIGHT
TZOFFSETFROM:+0100
TZOFFSETTO:+0200
TZNAME:CEST
DTSTART:20150329T010000
END:DAYLIGHT
BEGIN:STANDARD
TZOFFSETFROM:+0200
TZOFFSETTO:+0100
TZNAME:CET
DTSTART:20151025T010000
END:STANDARD
BEGIN:DAYLIGHT
TZOFFSETFROM:+0100
TZOFFSETTO:+0200
TZNAME:CEST
DTSTART:20160327T010000
END:DAYLIGHT
BEGIN:STANDARD
TZOFFSETFROM:+0200
TZOFFSETTO:+0100
TZNAME:CET
DTSTART:20161030T010000
END:STANDARD
BEGIN:DAYLIGHT
TZOFFSETFROM:+0100
TZOFFSETTO:+0200
TZNAME:CEST
DTSTART:20170326T010000
END:DAYLIGHT
BEGIN:STANDARD
TZOFFSETFROM:+0200
TZOFFSETTO:+0100
TZNAME:CET
DTSTART:20171029T010000
END:STANDARD
END:VTIMEZONE
BEGIN:VEVENT
DTSTART;TZID=Europe/Ljubljana:20160213T220000
DTEND;TZID=Europe/Ljubljana:20160213T235500
DTSTAMP:20260426T001025
CREATED:20160205T001908Z
LAST-MODIFIED:20160205T001908Z
UID:4934-1455400800-1455407700@lokalpatriot.si
SUMMARY:DNŠ Sessions: Tabu
DESCRIPTION:Vstopnina: 4 evre za člane DNŠ\, 8 evrov za vse ostale \nZ navdušenjem vas obveščamo\, da nam bodo na februarskem Sessionu družbo na odru Kluba LokalPatriot delali Tabu! Koncert bo v soboto\, 13. februarja 2016 ob 22. uri. \nTabujev verjetno ni potrebno posebej predstavljati\, saj s svojo glasbo in energičnimi nastopi slovenske odre osvajajo že vrsto let. Skozi leta so premagali vrsto ovir\, vsakič pa se vrnejo še močnejši\, boljši in kvalitetnejši\, od lanskega leta naprej tudi z novo pevko Evo. \nV Patriotu bodo s svojimi hiti\, ki jih je nemogoče prešteti na prste obeh rok zagotovo poskrbeli za izjemen žur\, zato jih ne smete zamuditi!
URL:https://lokalpatriot.si/dogodek/141/
LOCATION:Galerija
ATTACH;FMTTYPE=image/jpeg:https://lokalpatriot.si/wp-content/uploads/2024/04/12565630_899914020125926_3988712355162405183_n.jpg
END:VEVENT
BEGIN:VEVENT
DTSTART;TZID=Europe/Ljubljana:20160212T220000
DTEND;TZID=Europe/Ljubljana:20160212T235500
DTSTAMP:20260426T001025
CREATED:20160205T000515Z
LAST-MODIFIED:20240406T122252Z
UID:4932-1455314400-1455321300@lokalpatriot.si
SUMMARY:Valentinov koncert: Patetico - Odpovedano zaradi bolezni
DESCRIPTION:Današnji koncert je zaradi bolezni odpovedan. O kasnejšem datumu koncerta zasedbe Patetico boste obveščeni. \nPreprodaja 5€\, na dan koncerta 7€ \nObvezne rezervacije sedišč na program@lokalpatriot.si \nPo devetih letih je skupina Patetico lani spomladi objavila docela avtorsko ploščo “Vse je v redu z mojo dušo”. Na krilih novega gradiva piše novo poglavje v zgodbi\, ki se je pred ducatom let začela na pri nas redek način. Patetico so zasijali kot komet\, za katerega nihče natanko ne ve\, zakaj sije tako močno\, a ta sij vsi še kako čutimo.\nVse skupaj se je začelo pod taktirko pisca\, pesnika\, dramatika in vsestranskega gledališčnika Roka Vilčnika. Vzel je njemu ljube tuje pop štiklce različnih žanrov in starosti\, od Toma Waitsa prek Glorie Gaynor do romskih ljudskih ter jim nadel svoja besedila. Ne prevedena\, temveč napisana na novo na osnovi izvirnika. Napisana silovito lepo. Zbral je glasbenike\, ki so pesmi zaranžirali\, in leta 2003 zrežiral Cabaret Patetico\, jazzovsko obarvano glasbeno prestavo\, za katero sta bili predvideni le dve ponovitvi. Ko so posnetki druge zakrožili med ljudmi in zašli na medmrežje\, se buma ni dalo več ustaviti. Čudoviti\, nežni jazzovski aranžmaji\, brezhibne izvedbe\, edinstveno petje Nike Perunović\, besedila\, ki bi jih napisal vsak sam\, če bi znal… vse je pripomoglo k nastanku enega največjih fenomenov sodobne slovenske pop kulture. “Besedila zadenejo v srce in možgane\, naravnost in brez opozorila\, s preprostostjo in iskrenostjo\, ki navdušuje\, in mojstrsko spreobrnejo vsakršno patetiko\, ji odvzamejo negativni prizvok in ji vdihnejo novo življenje\,” je zapisal radijski urednik Jani Kenda. \nIn danes vse je domala tako kot prej. Le bolj zrelo\, bolj sodobno\, bolj sveže in bolj energično kot nekoč. Z istimi sredstvi\, v skoraj enaki zasedbi\, a s popolnoma avtosrkim pristopom. \nIzpoved skupine Patetico vodi filozofija\, ki zagovarja tezo\, da je patetičnost pozitivna lastnost. Temelji na vrhunskih glasbenih podlagah in izvedbi\, na pronicljivem izpovednem vokalu ter melanholičnih\, a hkrati razposajenih besedilih\, ki se velikokrat spogledujejo s čisto poezijo. Njihova glasba izraža žlahtne prvine bluesa\, jazza in swinga. Ljubek\, žaloben vokal\, tankočutna besedila in imenitna jazzovska instrumentalna zasedba združujejo čaroben preplet zvokov in besed. \nIdeja in besedila: Rok Vilčnik – rokgre\, vokal: Nika Perunović\, bobni: Ciril Sem\, klavir: Dejan Berden\, kontrabas: Tadej Kampl. \nKritike novega albuma: \nhttp://www.delo.si/kultura/glasba/album-tedna-patetico-vse-je-v-redu-z-mojo-duso.html \nhttp://www.sigic.si/odzven/kjer-je-sam-patetika \nhttp://www.rockline.si/podrobnosti-recenzije/vse-je-v-redu-z-mojo-duso-10175 \nNekaj novih pesmi … \nhttps://www.youtube.com/watch?v=PE2vaBQEArs&list=PLfhbXMAR-HnoY2YT8ekkUymtDBbXlt8LE \nVideo … \nPatetico V Živo https://www.youtube.com/watch?v=PE2vaBQEArs \nPatetico Dom https://www.youtube.com/watch?v=MG_S9YR007Y
URL:https://lokalpatriot.si/dogodek/valentinov-koncert-patetico/
LOCATION:Galerija
ATTACH;FMTTYPE=image/jpeg:https://lokalpatriot.si/wp-content/uploads/2024/04/Patetico-foto-Dejan-Bulut-scaled.jpg
END:VEVENT
BEGIN:VEVENT
DTSTART;TZID=Europe/Ljubljana:20160207T220000
DTEND;TZID=Europe/Ljubljana:20160208T030000
DTSTAMP:20260426T001025
CREATED:20160126T141422Z
LAST-MODIFIED:20160126T141422Z
UID:4930-1454882400-1454900400@lokalpatriot.si
SUMMARY:COSOVEL (PL) & RESONANCE ONE
DESCRIPTION:Na predvečer kulturnega praznika bomo v klubu LokalPatriot gostili izjemno poljsko glasbenico Cosovel\, ki si je umetniško ime nadela po slovenskem pesniku Srečku Kosovelu. Pred enim letom je izdala svoj istoimenski prvenec. \nNjen glasbeni izraz je kombinacija eksperimentiranja z sintetizatorjem\, s pomočjo čela in violine pa ustvari edinstven glasbeni stil\, ki bi ga lahko definirali kot avantgardni pop\, v katerem so poleg elektronike vnešeni tudi jazz in folk elementi. \nNa živih nastopih jo spremlja tričlanska zasedba v postavi Aleks Polak (bas\, ukulele)\, Wiktoria Jakubowska (bobni) in Dariusz Skarzynski (vizualizacija). \nCosovel so se v letu 2015 predstavili tudi po številnih festivalih po Evropi\, če omenimo le Orange Warsaw Festival\, Tauron Nowa Muzyka (Katowice)\, Reeperbahn Festival (Hamburg)\, Loftas (Vilnius)\, Waves Bratislava\, Fantoche Festival (Baden)\, Barbakan (Banska Bystrica)\,… \nResonance One je projekt povezovanja sveta analognih sintetizatorjev s čistočo digitalnega zvoka.\nUmetnik je dozoreval v Varšavskih underground klubih\, na njegove žive nastope z DJ elementi so vplivali PoleGroup\, Soma\, Deep Space Helsinki…\nOpišemo ga lahko kot dark techno\, ki prebija meje z mešanjem minimala\, dub techna\, bass-heavy groova. \nZaradi omejenega števila vstopnic priporočamo rezervacijo na program@lokalpatriot.si. \nSpoti:\nCOMING BACK: https://www.youtube.com/watch?v=7ljJk_ep39U\nSORBETOWY: https://www.youtube.com/watch?v=qmAa4W6um0M\nBITTER HEART: https://www.youtube.com/watch?v=avfVsNL63tc \nKoprodukcija:\nBalcony TV ( nominacija v kategoriji „Video leta”)\n\nSofar Warsaw\n \nLive in Studio EP\nDetektyw Nr 16 : https://www.youtube.com/watch?v=wk1fly9GjV4\nDhei No : https://www.youtube.com/watch?v=hEe9–b53LE\nA Small Coat : https://www.youtube.com/watch?v=tuLVAO4YalU
URL:https://lokalpatriot.si/dogodek/cosovel-pl/
LOCATION:Galerija
ATTACH;FMTTYPE=image/jpeg:https://lokalpatriot.si/wp-content/uploads/2024/04/12508770_10153791195658903_4151598235227875461_n.jpg
END:VEVENT
BEGIN:VEVENT
DTSTART;TZID=Europe/Ljubljana:20160206T220000
DTEND;TZID=Europe/Ljubljana:20160207T030000
DTSTAMP:20260426T001025
CREATED:20160204T234912Z
LAST-MODIFIED:20160204T234912Z
UID:4931-1454796000-1454814000@lokalpatriot.si
SUMMARY:Pustni Disco Boogie
DESCRIPTION:V soboto vabljeni na pustni disco boogie\, plesni čeveljci zaželjeni 😉\nVstopnina 3€
URL:https://lokalpatriot.si/dogodek/pustni-disco-boogie/
LOCATION:Galerija
ATTACH;FMTTYPE=image/jpeg:https://lokalpatriot.si/wp-content/uploads/2024/04/db_fb.jpg
END:VEVENT
BEGIN:VEVENT
DTSTART;TZID=Europe/Ljubljana:20160130T220000
DTEND;TZID=Europe/Ljubljana:20160130T235500
DTSTAMP:20260426T001025
CREATED:20160107T131831Z
LAST-MODIFIED:20160107T131831Z
UID:4927-1454191200-1454198100@lokalpatriot.si
SUMMARY:Nula Kelvina & Small Tokk
DESCRIPTION:30. januarja bo v Lokalpatriot prispela najbolj ledena slovenska zasedba Nula Kelvina\, katere korenine segajo globoko pod Gorjance. Novomeškemu občinstvu kanijo hladnokrvno predstaviti tako vse dosedajšnje hite kot tudi po krivici spregledane kul skladbe iz prvih treh albumov.\nZa tiste\, ki so nekoliko manj naklonjeni mrazu\, pa so v goste povabili še vročega primorskega gensta raperja Smaal Tokka\, za katerega bi skupina dala roko v ogenj\, da je manj kul kot oni in jim tako ne bo zasenčil plamena slave sobotne vročice.
URL:https://lokalpatriot.si/dogodek/nula-kelvina-small-takk/
LOCATION:Galerija
ATTACH;FMTTYPE=image/jpeg:https://lokalpatriot.si/wp-content/uploads/2024/04/nula-kelvina.jpg
END:VEVENT
BEGIN:VEVENT
DTSTART;TZID=Europe/Ljubljana:20160129T220000
DTEND;TZID=Europe/Ljubljana:20160129T235500
DTSTAMP:20260426T001025
CREATED:20160107T131316Z
LAST-MODIFIED:20160107T131316Z
UID:4926-1454104800-1454111700@lokalpatriot.si
SUMMARY:Dekadent & Morost & Septic Order
DESCRIPTION:DEKADENT\nhttp://www.dekadent.si/ \nDEKADENT reprezentirajo individualno izražanje\, ki temelji na\nekstremni metal glasbi. Skupina se žanrsko ne omejuje\, pri ustvarjanju\nima prednost artistično izražanje članov. Letos so izdali četrti\nalbum\, Veritas\, ki predstavlja poseben mejnik v njihovi karieri. O\nteži le tega pa se lahko prepričate na koncertu.\nZa poslušat: \nhttps://dekadent.bandcamp.com/\n \nMOROST\nhttps://www.facebook.com/morostband/timeline \nMOROST so težka metal skupina\, ki je nastala z željo po ustvarjanju\nkompleksnejše metal glasbe. Po nekajletnem obdobju kaljenja v\nustvarjanju in nekaterih menjavah v zasedbi je skupina novembra 2012\npričela s snemanjem dolgometražnega prvenca z naslovom Solace in\nSolitude\, ki je izšel julija 2014\, kmalu zatem pa smo jih prvič lahko\nvideli na odru. Na koncertu\, poleg predstavitve prvenca\, pričakujemo\ntudi vpogled v prihodnost benda\, oziroma kak še neizdan komad. \nZa poslušat:\nhttps://morost.bandcamp.com/\n \nSEPTIC ORDER\nhttps://www.facebook.com/Septic-Order-563225163773551/timeline \nGlasbena skupina Septic Order\, je pričela z delovanjem v zadnjem tednu\nnovembra 2014 na Marofu. Je še zelo mlad bend\, z obilo želje\, zagona\nin prostora za nadaljni napredek.
URL:https://lokalpatriot.si/dogodek/kill-kenny/
LOCATION:Galerija
ATTACH;FMTTYPE=image/jpeg:https://lokalpatriot.si/wp-content/uploads/2024/04/NMposter.jpeg
END:VEVENT
BEGIN:VEVENT
DTSTART;TZID=Europe/Ljubljana:20160123T220000
DTEND;TZID=Europe/Ljubljana:20160123T235500
DTSTAMP:20260426T001025
CREATED:20160107T132233Z
LAST-MODIFIED:20160107T132233Z
UID:4928-1453586400-1453593300@lokalpatriot.si
SUMMARY:Kill Kenny
DESCRIPTION:Podprite domači novomemški alter indie rokenrol bend\, ki bo denar od vstopnine namenil za izdajo svojega drugega albuma! \nPromocija novega singla “Lokomotiva”\, ki je obenem napoved novega albuma! Vabljeni! \nNovomeška alter indie rock in blues nabrito rokerska zasedba KILL KENNY predstavlja novi single\, videospot za pesem LOKOMOTIVA. Tokrat so pesem izjemoma\, da se poizkusijo in pridobijo na domači prepoznavnosti\, prvenstveno pa kot izziv\, posneli v slovenskem jeziku\, napoveduje pa izdajo novega\, drugega albuma\, ki ga bomo dočakali enkrat konec pomladi ali v začetku poletja še v letu 2016.
URL:https://lokalpatriot.si/dogodek/kill-kenny-2/
LOCATION:Galerija
END:VEVENT
BEGIN:VEVENT
DTSTART;TZID=Europe/Ljubljana:20160122T220000
DTEND;TZID=Europe/Ljubljana:20160122T235500
DTSTAMP:20260426T001025
CREATED:20160107T131121Z
LAST-MODIFIED:20160107T131121Z
UID:4925-1453500000-1453506900@lokalpatriot.si
SUMMARY:DNŠpil: Ars Groova
DESCRIPTION:V januarju nadaljujemo tudi z DNŠpili. Naslednji se bo zgodil v petek\, 22. januarja 2016 ob 22. uri\, v Klubu LokalPatriot\, ko se nam bodo predstavili Ars Groova. \nArs Groova so osemčlanska glasbena skupina s Kozjanskega\, ki jo dobro predstavi že njeno ime. Raznolik žanrski repertoar ter pestra zasedba na odru ustvarita energijo\, ki iz poslušalcev izvabi pozibavanje v ritmu in glasbi\, ki groova. Poleg nekaj avtorskih skladb izvajajo znane tuje skladbe\, ki so prirejene in izvedene v svojevrstnem slogu\, navdušujejo pa tako staro kot mlado. \nZasedba: \nMarjeta Pušnik – solo vokal\nMarko Golež – klaviature\, kitara\, vokal\nGorazd Zapušek – kitara\nAleš Paščinski – bas kitara\, vokal\nMiha Vrečko – bobni\nŽan Cesar – trobenta\nŽiga Vešligaj – alt saksofon\, vokal\nAnže Škornik – bariton saksofon\, vokal \nVstopnine ni!
URL:https://lokalpatriot.si/dogodek/dnspil-ars-groova/
LOCATION:Galerija
ATTACH;FMTTYPE=image/jpeg:https://lokalpatriot.si/wp-content/uploads/2024/04/ars-groova.jpg
END:VEVENT
BEGIN:VEVENT
DTSTART;TZID=Europe/Ljubljana:20160116T220000
DTEND;TZID=Europe/Ljubljana:20160116T235500
DTSTAMP:20260426T001025
CREATED:20160107T130641Z
LAST-MODIFIED:20160107T130641Z
UID:4924-1452981600-1452988500@lokalpatriot.si
SUMMARY:KRIZED OUT - družabni večer
DESCRIPTION:
URL:https://lokalpatriot.si/dogodek/krized-out-druzabni-vecer/
LOCATION:Galerija
ATTACH;FMTTYPE=image/jpeg:https://lokalpatriot.si/wp-content/uploads/2024/04/1137_598729593610707_3803624827186382029_n.jpg
END:VEVENT
BEGIN:VEVENT
DTSTART;TZID=Europe/Ljubljana:20160115T220000
DTEND;TZID=Europe/Ljubljana:20160115T235500
DTSTAMP:20260426T001025
CREATED:20160107T130326Z
LAST-MODIFIED:20160107T130326Z
UID:4923-1452895200-1452902100@lokalpatriot.si
SUMMARY:Gibanica: Harris Pilton
DESCRIPTION:
URL:https://lokalpatriot.si/dogodek/gibanica-harris-pilton/
LOCATION:Galerija
ATTACH;FMTTYPE=image/jpeg:https://lokalpatriot.si/wp-content/uploads/2024/04/12105927_767844956677429_2272933104561362877_n.jpg
END:VEVENT
BEGIN:VEVENT
DTSTART;TZID=Europe/Ljubljana:20160109T220000
DTEND;TZID=Europe/Ljubljana:20160110T020000
DTSTAMP:20260426T001025
CREATED:20160105T102751Z
LAST-MODIFIED:20160105T102751Z
UID:4922-1452376800-1452391200@lokalpatriot.si
SUMMARY:DNŠ Sessions: HELP! A Beatles Tribute
DESCRIPTION:Dogodkov pa kar ne zmanjka… \nZ veseljem napovedujemo naslednji DNŠ Session\, ki se bo zgodil že v novem letu. V soboto\, 9. januarja 2016 ob 22.00 uri\, bomo v Klubu LokalPatriot zaplesali skupaj s »HELP! A Beatles Tribute«. Tokratni Session bo malce drugačen\, saj ga pripravljamo v sodelovanju s Klubom LokalPatriot in vam ČASTIMO VSTOPNINO! \nRazlogov za to je več\, naj jih kar naštejemo: \n– spodobi se\, da vam za praznike nekaj podarimo in kaj je lepšega\, kot brezplačen prvi koncert v letu 2016\n– LokalPatriot praznuje rojstni dan in vas na ta način vabi\, da ga praznujete skupaj z njim\n– vemo\, da vam bo veseli december izpraznil denarnice\, zato vam jih ne želimo še mi 😉\n– ker »we don’t care too much for money\, ’cause money can’t buy us love!« 😀 \nNa hitro še nekaj o bandu: \n»HELP! A Beatles Tribute« je skupina\, ki s svojim energičnim vzdušjem ter veliko natančnostjo izvaja glasbo legendarnih The Beatles. Z neoporečnimi\, izjemno natančnimi in obenem energičnimi izvedbami skladb skupine The Beatles\, bodo »HELP! A Beatles Tribute« v vas vzbudili občutek\, da ste dejansko na koncertu liverpoolske četverice. Koncert vsebuje zaščitne znake skupine The Beatles\, vključno s kostumografijo ter glasbenimi inštrumenti\, uporaba slednjih pa omogoča rekonstrukcijo kvalitete zvoka skupine The Beatles\, ki publiko ponese nazaj v šestedeta. \nSe vidimo v Patriotu!
URL:https://lokalpatriot.si/dogodek/dns-sessions-help-a-beatles-tribute/
LOCATION:Galerija
ATTACH;FMTTYPE=image/jpeg:https://lokalpatriot.si/wp-content/uploads/2024/04/12373153_880750648708930_7338562645718240609_n.jpg
END:VEVENT
BEGIN:VEVENT
DTSTART;TZID=Europe/Ljubljana:20151128T220000
DTEND;TZID=Europe/Ljubljana:20151128T235500
DTSTAMP:20260426T001025
CREATED:20151109T062226Z
LAST-MODIFIED:20151109T062226Z
UID:4918-1448748000-1448754900@lokalpatriot.si
SUMMARY:ATHEIST RAP (Srbija)
DESCRIPTION:sobota\, 28.11.2015\, 22:00\, Klub LokalPatriot\nATHEIST RAP (Srbija) – koncert
URL:https://lokalpatriot.si/dogodek/atheist-rap-srbija/
LOCATION:Galerija
ATTACH;FMTTYPE=image/jpeg:https://lokalpatriot.si/wp-content/uploads/2024/04/10481505_732603416795419_8487993176556017423_o.jpg
END:VEVENT
BEGIN:VEVENT
DTSTART;TZID=Europe/Ljubljana:20151127T220000
DTEND;TZID=Europe/Ljubljana:20151127T235500
DTSTAMP:20260426T001025
CREATED:20151109T062103Z
LAST-MODIFIED:20151109T062103Z
UID:4917-1448661600-1448668500@lokalpatriot.si
SUMMARY:OKTTOBER
DESCRIPTION:petek\, 27.11.2015\, 22:00\, Klub LokalPatriot \nOKTTOBER – koncert
URL:https://lokalpatriot.si/dogodek/okttober/
LOCATION:Galerija
ATTACH;FMTTYPE=image/jpeg:https://lokalpatriot.si/wp-content/uploads/2024/04/12080262_982007701842565_4285627859883421322_o.jpg
END:VEVENT
BEGIN:VEVENT
DTSTART;TZID=Europe/Ljubljana:20151121T220000
DTEND;TZID=Europe/Ljubljana:20151121T235500
DTSTAMP:20260426T001025
CREATED:20151109T061939Z
LAST-MODIFIED:20151109T061939Z
UID:4916-1448143200-1448150100@lokalpatriot.si
SUMMARY:DNŠpil: KORMORANA & OORAL SEA
DESCRIPTION:sobota\, 21.11.2015\, 22:00\, Klub LokalPatriot\nDNŠpil: KORMORANA & OORAL SEA – koncert
URL:https://lokalpatriot.si/dogodek/dnspil-kormorana-ooral-sea/
LOCATION:Galerija
ATTACH;FMTTYPE=image/jpeg:https://lokalpatriot.si/wp-content/uploads/2024/04/Ooral-sea.jpg
END:VEVENT
BEGIN:VEVENT
DTSTART;TZID=Europe/Ljubljana:20151120T220000
DTEND;TZID=Europe/Ljubljana:20151120T235500
DTSTAMP:20260426T001026
CREATED:20151109T061751Z
LAST-MODIFIED:20151109T061751Z
UID:4915-1448056800-1448063700@lokalpatriot.si
SUMMARY:IXXI (Švedska) & HARAKIRI FOR THE SKY (Avstrija)
DESCRIPTION:petek\, 20.11.2015\, 22:00\, Klub LokalPatriot\nIXXI (Švedska) & HARAKIRI FOR THE SKY (Avstrija) – koncert
URL:https://lokalpatriot.si/dogodek/ixxi-svedska-harakiri-for-the-sky-avstrija/
LOCATION:Galerija
ATTACH;FMTTYPE=image/jpeg:https://lokalpatriot.si/wp-content/uploads/2024/04/1456092_666453030053812_1145653559_n.jpg
END:VEVENT
BEGIN:VEVENT
DTSTART;TZID=Europe/Ljubljana:20151114T220000
DTEND;TZID=Europe/Ljubljana:20151114T235500
DTSTAMP:20260426T001026
CREATED:20151109T061422Z
LAST-MODIFIED:20151109T061422Z
UID:4914-1447538400-1447545300@lokalpatriot.si
SUMMARY:MARTINOVANJE S SODDIHA
DESCRIPTION:sobota 14.11.2015\, 22:00\, Klub LokalPatriot\nMARTINOVANJE S SODDIHA – koncert
URL:https://lokalpatriot.si/dogodek/martinovanje-s-soddiha/
LOCATION:Galerija
END:VEVENT
BEGIN:VEVENT
DTSTART;TZID=Europe/Ljubljana:20151113T220000
DTEND;TZID=Europe/Ljubljana:20151113T235500
DTSTAMP:20260426T001026
CREATED:20151109T061126Z
LAST-MODIFIED:20151109T061126Z
UID:4913-1447452000-1447458900@lokalpatriot.si
SUMMARY:JACUZZY KRALL
DESCRIPTION:petek\, 13.11.2015\, 22:00\, Klub LokalPatriot\nJACUZZY KRALL – koncert
URL:https://lokalpatriot.si/dogodek/jacuzzy-krall/
LOCATION:Galerija
END:VEVENT
BEGIN:VEVENT
DTSTART;TZID=Europe/Ljubljana:20151111T200000
DTEND;TZID=Europe/Ljubljana:20151111T230000
DTSTAMP:20260426T001026
CREATED:20151109T062535Z
LAST-MODIFIED:20151109T062535Z
UID:4920-1447272000-1447282800@lokalpatriot.si
SUMMARY:LIGA PRVAKOV  - prenos tekem po sporedu
DESCRIPTION:torek / sreda\, 20:00\, Klub LokalPatriot\nLIGA PRVAKOV – prenos tekem po sporedu
URL:https://lokalpatriot.si/dogodek/liga-prvakov-prenos-tekem-po-sporedu-2/
LOCATION:Galerija
ATTACH;FMTTYPE=image/jpeg:https://lokalpatriot.si/wp-content/uploads/2024/04/UCL_bg.jpg
END:VEVENT
BEGIN:VEVENT
DTSTART;TZID=Europe/Ljubljana:20151110T200000
DTEND;TZID=Europe/Ljubljana:20151110T230000
DTSTAMP:20260426T001026
CREATED:20151109T062501Z
LAST-MODIFIED:20151109T062501Z
UID:4919-1447185600-1447196400@lokalpatriot.si
SUMMARY:LIGA PRVAKOV  - prenos tekem po sporedu
DESCRIPTION:torek / sreda\, 20:00\, Klub LokalPatriot\nLIGA PRVAKOV – prenos tekem po sporedu
URL:https://lokalpatriot.si/dogodek/liga-prvakov-prenos-tekem-po-sporedu/
LOCATION:Galerija
ATTACH;FMTTYPE=image/jpeg:https://lokalpatriot.si/wp-content/uploads/2024/04/UCL_bg.jpg
END:VEVENT
BEGIN:VEVENT
DTSTART;TZID=Europe/Ljubljana:20151031T220000
DTEND;TZID=Europe/Ljubljana:20151031T235500
DTSTAMP:20260426T001026
CREATED:20151009T102238Z
LAST-MODIFIED:20151009T102238Z
UID:4912-1446328800-1446335700@lokalpatriot.si
SUMMARY:DRUŽENJE OB IZVEDBI PROJEKTA NOVO MESTO GLASBE
DESCRIPTION:Avtorski projekt raziskovanja zgodovine novomeške popularne glasbe\nZgodovina novomeškega popularnoglasbenega življenja\, ki je predmet preučevanja projekta novo mesto glasbe\, avtorja Mitje Sočiča\, skupaj z drugimi ustvarjalci\, je delno za(ob)jeta v obliki razstave\, dokumentarnega filma in knjige. Vsak od treh končnih produktov projekta ima svojo pot obravnave lokalne popularne glasbe\, s skupno končno željo\, da dogajanje okoli “himne” novomeškega popularnoglasbenega življenja\, “Grem domov v Novo mesto”\, ponesejo prek “meja” Novega mesta. Novomeško glasbeno življenje\, prepojeno z zgodovinskimi in lokalnimi pogoji oziroma značilnostmi produkcije\, distribucije in potrošnje popularne glasbe\, predstavlja morda majhen geografski prostor – ki je neizpodbiten sestavni del velikega prostora\, a s precejšnjo zgodovinsko\, simbolno in svojstveno glasbeno tradicijo\, in ki na globalnem glasbenem zemljevidu predstavlja svojevrstno novo mesto glasbe.\nProjekt Dolenjskega muzeja novo mesto glasbe\, avtorja Mitje Sočiča bo 8. oktobra 2015\, ob 18. uri najprej predstavljen s premiero dokumentarnega filma\, v katerem nastopijo številna prepoznavna imena iz lokalnega in osrednjeslovenskega glasbenega prostora\, v Kulturnem centru Janeza Trdine Novo mesto in se bo ob 20. uri nadaljeval z otvoritvijo razstave v Dolenjskem muzeju Novo mesto\, ki jo bo slavnostno otvoril gospod Dragan Bulič\, na ogled pa bo do 31. decembra 2015.\nOd 22:00 dalje bo v Klubu LokalPatriot druženje ob izvedbi projekta.
URL:https://lokalpatriot.si/dogodek/druzenje-ob-izvedbi-projekta-novo-mesto-glasbe-2/
LOCATION:Galerija
END:VEVENT
BEGIN:VEVENT
DTSTART;TZID=Europe/Ljubljana:20151028T220000
DTEND;TZID=Europe/Ljubljana:20151028T235500
DTSTAMP:20260426T001026
CREATED:20151006T163149Z
LAST-MODIFIED:20151006T163149Z
UID:4909-1446069600-1446076500@lokalpatriot.si
SUMMARY:DRUŽENJE OB IZVEDBI PROJEKTA NOVO MESTO GLASBE
DESCRIPTION:Avtorski projekt raziskovanja zgodovine novomeške popularne glasbe\nZgodovina novomeškega popularnoglasbenega življenja\, ki je predmet preučevanja projekta novo mesto glasbe\, avtorja Mitje Sočiča\, skupaj z drugimi ustvarjalci\, je delno za(ob)jeta v obliki razstave\, dokumentarnega filma in knjige. Vsak od treh končnih produktov projekta ima svojo pot obravnave lokalne popularne glasbe\, s skupno končno željo\, da dogajanje okoli “himne” novomeškega popularnoglasbenega življenja\, “Grem domov v Novo mesto”\, ponesejo prek “meja” Novega mesta. Novomeško glasbeno življenje\, prepojeno z zgodovinskimi in lokalnimi pogoji oziroma značilnostmi produkcije\, distribucije in potrošnje popularne glasbe\, predstavlja morda majhen geografski prostor – ki je neizpodbiten sestavni del velikega prostora\, a s precejšnjo zgodovinsko\, simbolno in svojstveno glasbeno tradicijo\, in ki na globalnem glasbenem zemljevidu predstavlja svojevrstno novo mesto glasbe.\nProjekt Dolenjskega muzeja novo mesto glasbe\, avtorja Mitje Sočiča bo 8. oktobra 2015\, ob 18. uri najprej predstavljen s premiero dokumentarnega filma\, v katerem nastopijo številna prepoznavna imena iz lokalnega in osrednjeslovenskega glasbenega prostora\, v Kulturnem centru Janeza Trdine Novo mesto in se bo ob 20. uri nadaljeval z otvoritvijo razstave v Dolenjskem muzeju Novo mesto\, ki jo bo slavnostno otvoril gospod Dragan Bulič\, na ogled pa bo do 31. decembra 2015.\nOd 22:00 dalje bo v Klubu LokalPatriot druženje ob izvedbi projekta.
URL:https://lokalpatriot.si/dogodek/druzenje-ob-izvedbi-projekta-novo-mesto-glasbe/
LOCATION:Galerija
END:VEVENT
BEGIN:VEVENT
DTSTART;TZID=Europe/Ljubljana:20151016T220000
DTEND;TZID=Europe/Ljubljana:20151016T235500
DTSTAMP:20260426T001026
CREATED:20151009T102057Z
LAST-MODIFIED:20151009T102057Z
UID:4911-1445032800-1445039700@lokalpatriot.si
SUMMARY:DNŠ SESSION: SOUL FINGERS
DESCRIPTION:Poletje se bliža koncu\, izpiti so opravljeni\, začenja se novo študijsko leto in spet je čas za najboljše brucovanje daleč naokoli.\nDNŠ vas vabi v Klub LokalPatriot\, kjer bomo v soboto\, 10. oktobra 2015\, skupaj odprli novo klubsko sezono in s tem DNŠ Sessions-e v družbi hrvaške glasbene skupine SOUL FINGERS.\nSoul Fingers po evropskih odrih skačejo in groovajo že skoraj 25 let\, v Novem mestu pa se bodo predstavili premierno. Gre za glasbeno skupino\, ki na samosvoj način preigrava hite kot so “Walking On Sunshine”\, “Baby\, You Can Drive My Car”\, “Sunny”\, “Ghostbusters” ter še mnoge druge\, na brucovanju pa bodo svoj nastop odprli s svojim novim avtorskim komadom “We Are The Soul Fingers\, My Friend”\, ki kot single prav te dni začenja svoje medijsko življenje in ga lahko slišite tudi na slovenskih radijskih valovih. S svojim energičnim nastopom Soul Fingers vedno poskrbijo za dober (plesni) žur\, in ne dvomimo\, da bo tudi tokrat tako.\nPoleg koncerta za najpogumnejše pripravljamo tudi turnir v Beer Pongu\, kot se za pravi študentski žur tudi spodobi\, zagotovo pa se bo našlo še kakšno presenečenje.\nvstopnina 4€\, za člane DNŠ ob predložitvi izkaznice brezplačno
URL:https://lokalpatriot.si/dogodek/dns-session-soul-fingers-3/
LOCATION:Galerija
END:VEVENT
BEGIN:VEVENT
DTSTART;TZID=Europe/Ljubljana:20151010T220000
DTEND;TZID=Europe/Ljubljana:20151010T235500
DTSTAMP:20260426T001026
CREATED:20151006T170044Z
LAST-MODIFIED:20151006T170044Z
UID:4910-1444514400-1444521300@lokalpatriot.si
SUMMARY:DNŠ SESSION: SOUL FINGERS
DESCRIPTION:Poletje se bliža koncu\, izpiti so opravljeni\, začenja se novo študijsko leto in spet je čas za najboljše brucovanje daleč naokoli.\nDNŠ vas vabi v Klub LokalPatriot\, kjer bomo v soboto\, 10. oktobra 2015\, skupaj odprli novo klubsko sezono in s tem DNŠ Sessions-e v družbi hrvaške glasbene skupine SOUL FINGERS.\nSoul Fingers po evropskih odrih skačejo in groovajo že skoraj 25 let\, v Novem mestu pa se bodo predstavili premierno. Gre za glasbeno skupino\, ki na samosvoj način preigrava hite kot so “Walking On Sunshine”\, “Baby\, You Can Drive My Car”\, “Sunny”\, “Ghostbusters” ter še mnoge druge\, na brucovanju pa bodo svoj nastop odprli s svojim novim avtorskim komadom “We Are The Soul Fingers\, My Friend”\, ki kot single prav te dni začenja svoje medijsko življenje in ga lahko slišite tudi na slovenskih radijskih valovih. S svojim energičnim nastopom Soul Fingers vedno poskrbijo za dober (plesni) žur\, in ne dvomimo\, da bo tudi tokrat tako.\nPoleg koncerta za najpogumnejše pripravljamo tudi turnir v Beer Pongu\, kot se za pravi študentski žur tudi spodobi\, zagotovo pa se bo našlo še kakšno presenečenje.\nvstopnina 4€\, za člane DNŠ ob predložitvi izkaznice brezplačno
URL:https://lokalpatriot.si/dogodek/dns-session-soul-fingers-2/
LOCATION:Galerija
END:VEVENT
END:VCALENDAR