BEGIN:VCALENDAR
VERSION:2.0
PRODID:-//LokalPatriot - ECPv6.15.13.1//NONSGML v1.0//EN
CALSCALE:GREGORIAN
METHOD:PUBLISH
X-WR-CALNAME:LokalPatriot
X-ORIGINAL-URL:https://lokalpatriot.si
X-WR-CALDESC:Dogodki za LokalPatriot
REFRESH-INTERVAL;VALUE=DURATION:PT1H
X-Robots-Tag:noindex
X-PUBLISHED-TTL:PT1H
BEGIN:VTIMEZONE
TZID:Europe/Ljubljana
BEGIN:DAYLIGHT
TZOFFSETFROM:+0100
TZOFFSETTO:+0200
TZNAME:CEST
DTSTART:20250330T010000
END:DAYLIGHT
BEGIN:STANDARD
TZOFFSETFROM:+0200
TZOFFSETTO:+0100
TZNAME:CET
DTSTART:20251026T010000
END:STANDARD
BEGIN:DAYLIGHT
TZOFFSETFROM:+0100
TZOFFSETTO:+0200
TZNAME:CEST
DTSTART:20260329T010000
END:DAYLIGHT
BEGIN:STANDARD
TZOFFSETFROM:+0200
TZOFFSETTO:+0100
TZNAME:CET
DTSTART:20261025T010000
END:STANDARD
BEGIN:DAYLIGHT
TZOFFSETFROM:+0100
TZOFFSETTO:+0200
TZNAME:CEST
DTSTART:20270328T010000
END:DAYLIGHT
BEGIN:STANDARD
TZOFFSETFROM:+0200
TZOFFSETTO:+0100
TZNAME:CET
DTSTART:20271031T010000
END:STANDARD
END:VTIMEZONE
BEGIN:VEVENT
DTSTART;TZID=Europe/Ljubljana:20260420T170000
DTEND;TZID=Europe/Ljubljana:20260420T200000
DTSTAMP:20260419T200738
CREATED:20260319T180337Z
LAST-MODIFIED:20260319T181128Z
UID:14957-1776704400-1776715200@lokalpatriot.si
SUMMARY:AI triki za šolo\, projekte in delo
DESCRIPTION:Delavnica »AI triki za šolo\, projekte in delo« je zasnovana kot interaktivni dogodek za mlade\, ki želijo razviti digitalne kompetence ter se naučiti učinkovite\, odgovorne in kritične uporabe umetne inteligence. \nV prvem delu bodo udeleženci spoznali konkretne načine uporabe AI orodij ter ključne vidike njihove uporabe\, kot so zanesljivost informacij\, transparentnost\, avtorstvo in etika. Sledilo bo praktično delo\, kjer bodo udeleženci v manjših skupinah s pomočjo AI reševali konkretne lokalne izzive in oblikovali predloge rešitev. \nZaključni del bo namenjen refleksiji in skupni razpravi o vlogi umetne inteligence kot podpornega orodja pri participaciji mladih. \nDelavnica temelji na načelih neformalnega učenja\, aktivne participacije in učenja skozi prakso. Namenjena je predvsem mladim med 15. in 20. letom starosti\, dobrodošli pa so tudi mladinski delavci ter drugi zainteresirani. \n📍 Lokacija: kavarna LokalPatriot\n👥 Število mest je omejeno. \nPRIJAVE: Google Forms / lokalpatriot@lokalpatriot.si \n  \n#EUYouthWeek
URL:https://lokalpatriot.si/dogodek/ai-triki-za-solo-projekte-in-delo/
LOCATION:kavarna LokalPatriot\, Rozmanova ulica 21\, Novo mesto\, 8000\, Slovenia
CATEGORIES:Delavnice
ATTACH;FMTTYPE=image/png:https://lokalpatriot.si/wp-content/uploads/2026/03/AI-TRIKI-ZA-SOLO-PROJEKTE-IN-DELO-2.png
END:VEVENT
BEGIN:VEVENT
DTSTART;TZID=Europe/Ljubljana:20260424T180000
DTEND;TZID=Europe/Ljubljana:20260425T010000
DTSTAMP:20260419T200738
CREATED:20260325T120335Z
LAST-MODIFIED:20260325T122440Z
UID:14963-1777053600-1777078800@lokalpatriot.si
SUMMARY:RITEM GENERACIJ: živa glasba\, kviz\, srčkov ples in zabava dolgo v noč za vse generacije
DESCRIPTION:Vabljeni na prvi RITEM GENERACIJ v LokalPatriotu\, ki bo v 24. aprila\, ob 18:00. Povabi svojo babico\, dedka\, mami\, očija\, sestro\, brata\, sestrično\, bratranca\, soseda\, sosedo\, sošolko\, sošolca\, najboljšega prijatelja_ico\, simpatijo\, soplesalca_ko z maturantskega plesa … pa tudi koga iz tretjega kolena 😄 \nRITEM GENERACIJ bo večer\, kjer se generacije povežejo\, nasmejijo in zaplešejo skupaj 💥 Zabavali vas bodo: Drugi vagon. \nProgram:\n🎤 pub kviz (zmagovalna ekipa prejme vrhunsko nagrado)\n💘 srčkov ples (če pride simpatija… še toliko bolje 😉)\n🎶 glasbeni program\n🕺 četvorka\n🍲 možnost toplega obroka (doplačilo 10 €). \nPRIJAVE: Google Forms
URL:https://lokalpatriot.si/dogodek/ritem-generacij-ziva-glasba-kviz-srckov-ples-in-zabava-dolgo-v-noc-za-vse-generacije/
LOCATION:Klub LokalPatriot\, Rozmanova ulica 21\, Novo mesto\, 8000\, Slovenia
CATEGORIES:Družabni večer,Koncert,Zabava
ATTACH;FMTTYPE=image/png:https://lokalpatriot.si/wp-content/uploads/2026/03/RITEM-GENERACIJ-9.png
END:VEVENT
BEGIN:VEVENT
DTSTART;TZID=Europe/Ljubljana:20260425T203000
DTEND;TZID=Europe/Ljubljana:20260425T233000
DTSTAMP:20260419T200738
CREATED:20260320T113951Z
LAST-MODIFIED:20260415T135029Z
UID:14969-1777149000-1777159800@lokalpatriot.si
SUMMARY:Koncert: Majmunska posla
DESCRIPTION:Vabljeni na predpočitniški koncert zasedbe Majmunska posla\, ki bo v soboto\, 25. aprila\, ob 20:30 v kavarni LokalPatriot! Kot predskupino bosta nastopila EarlGrey. \nCena vstopnic v predprodaji: 5 €\nDan dogodka: 8 € \nAnsambel Majmunska Posla že od leta 2022 ustvarja glasbo po svojem okusu – iskreno\, nepredvidljivo in žanrsko neukrotljivo. Njihov izraz je mešanica kaosa in reda\, popa in punka\, etna in industriala\, vse skupaj pa prežeto z ljubeznijo do starih balkanskih balad in ljubljanskega podtalja. \nČeprav pravijo\, da igrajo pop\, je njihova glasba vse prej kot običajna. Vsak nastop je povabilo v svet\, kjer se zmeda spremeni v harmonijo\, kjer se različni vplivi zlivajo v edinstven zvok\, in kjer se publika spremeni v del zgodbe. \nMajmunska Posla so Jan Majetič\, Rok Mlinar\, Ana Toličič in Rok Ljubič. \n\n\n\nEarlGrey je svež novomeški glasbeni projekt\, ki sta ga ustanovila Žan Keglovič in Ivo Pajer. Zvok skupine izhaja iz ljubezni do Country-ja\, Folk-a\, Indie-ja\, Pop-a\, Shoegaze-a. Žanrsko se ne omejuje\, stalnica pa so spevne melodije in preprosta\, a življenska besedila v katerih se lahko vsak najde.
URL:https://lokalpatriot.si/dogodek/koncert-majmunska-posla/
LOCATION:kavarna LokalPatriot\, Rozmanova ulica 21\, Novo mesto\, 8000\, Slovenia
CATEGORIES:Koncert
ATTACH;FMTTYPE=image/png:https://lokalpatriot.si/wp-content/uploads/2026/03/MAJMUNSKA-1-1-1.png
END:VEVENT
BEGIN:VEVENT
DTSTART;TZID=Europe/Ljubljana:20260502T210000
DTEND;TZID=Europe/Ljubljana:20260503T010000
DTSTAMP:20260419T200738
CREATED:20260327T164107Z
LAST-MODIFIED:20260327T164107Z
UID:15032-1777755600-1777770000@lokalpatriot.si
SUMMARY:Karaoke večer #4
DESCRIPTION:Vabljeni na karaoke večer\, namenjen vsem ljubiteljem glasbe in nastopanja. Dogodek ponuja priložnost\, da se predstavite s svojim glasom\, bodisi solo ali v skupini\, lahko pa pridete zgolj poslušat oz. spodbujat prijatelje_ice. \nK sodelovanju vabljeni tako izkušeni nastopajoči kot tudi tisti\, ki se želite preizkusiti prvič. \n📅 Datum: sobota\, 2. maj 2026\n🕖 Ura: 21:00\n📍 Lokacija: kavarna LokalPatriot \nPrijave na mail lokalpatriot@lokalpatriot.si \nPrijava je zaželjena\, da lahko zagotovimo vse skladbe. \nPrijave sprejemamo tudi v živo na dan dogodka.
URL:https://lokalpatriot.si/dogodek/karaoke-vecer-4/
LOCATION:kavarna LokalPatriot\, Rozmanova ulica 21\, Novo mesto\, 8000\, Slovenia
CATEGORIES:Karaoke
ATTACH;FMTTYPE=image/png:https://lokalpatriot.si/wp-content/uploads/2026/03/Karaoke-4-4.png
END:VEVENT
BEGIN:VEVENT
DTSTART;TZID=Europe/Ljubljana:20260509T203000
DTEND;TZID=Europe/Ljubljana:20260509T233000
DTSTAMP:20260419T200738
CREATED:20260402T141724Z
LAST-MODIFIED:20260402T142528Z
UID:15063-1778358600-1778369400@lokalpatriot.si
SUMMARY:Koncert: Before Time
DESCRIPTION:Vabljeni na koncert in predstavitev novega albuma skupine Before Time\, ki bo v soboto\, 9. maja\, ob 20:30 v kavarni LokalPatriot. \nPredprodaja/študenti/dijaki: 5 € \nDan dogodka: 8 € \nBefore Time je slovenski bend\, ki se je uveljavil na domači sceni z zmagami na dveh natečajih: Špil liga 2019/20 in Šourock 2023/24. Ustanovljen leta 2017\, bend združuje elemente rocka in indie rocka\, pri čemer iščejo svoj edinstven glasbeni izraz. Kamničani so se skozi leta razvijali in eksperimentirali\, da bi oblikovali avtentičen slog\, ki odraža njihovo individualnost in kreativne vizije. Njihova glasba odraža mešanico energičnih kitarskih rifov in premišljenih lirik\, s katerimi nagovarjajo širok spekter poslušalcev. Before Time redno nastopajo po Sloveniji\, kjer z vsakim koncertom puščajo svoje stopinje na slovenski glasbeni sceni. Leta 2023 so izdali prvenec z naslovom OMNI in marca leta 2026 drugi album z naslovom Vse Kar Smo.  \nNaja Lipičnik: vokal \nToni Lah: kitara \nAleksander Leon Štukelj: kitara \nPeter Mandelj Mejač: bas kitara \nDomen Flerin: bobni \nLinktree: https://linktr.ee/before_time  \nInstagram: https://www.instagram.com/_beforetime_/  \nFacebook: https://www.facebook.com/beforetimeband/  \nYoutube: https://www.youtube.com/@beforetime4969
URL:https://lokalpatriot.si/dogodek/koncert-before-time/
LOCATION:kavarna LokalPatriot\, Rozmanova ulica 21\, Novo mesto\, 8000\, Slovenia
CATEGORIES:Koncert
ATTACH;FMTTYPE=image/png:https://lokalpatriot.si/wp-content/uploads/2026/04/Before-time-4.png
END:VEVENT
BEGIN:VEVENT
DTSTART;TZID=Europe/Ljubljana:20260516T203000
DTEND;TZID=Europe/Ljubljana:20260516T223000
DTSTAMP:20260419T200738
CREATED:20260408T102129Z
LAST-MODIFIED:20260408T103409Z
UID:15099-1778963400-1778970600@lokalpatriot.si
SUMMARY:Prismojeni profesorji Bluesa
DESCRIPTION:Prismojeni profesorji Bluesa so bend in hkrati prijatelji\, ki že več kot desetletje dokazujejo\, da je blues lahko surov\, iskren in noro zabaven. V soboto\, 16. maja\, ob 20:30 bodo v LokalPatriotu predstavili nov album Walk This Road Alone. \nBend sestavljajo:\n– Julijan Erič (kitara\, vokal)\,\n– Miha Ribarič (bas)\,\n– Zlatko Djogić (bobni\, vokal) in\n– Aleš Uhan (klaviature). \nNjihovi koncerti niso zgolj nastopi\, temveč pravi glasbeni road trip – ali\, bolje rečeno\, kar rodeo. Po treh izdanih ploščah in obdobju ustvarjanja v slovenskem jeziku se zdaj vračajo h koreninam z naborom avtorskih angleških skladb\, ki se tesneje naslanjajo na blues tradicijo. \nMaja se vračajo v Novo mesto\, kjer pripravljajo koncert\, poln presenečenj in dolgih improvizacij – vse\, kar bi si ljubitelji glasbe šestdesetih in sedemdesetih (pa tudi sodobnejših zvrsti) lahko želeli. »Hipijada\,« bi rekli nekateri\, medtem ko drugi že pripravljajo plesne čevlje. Tokrat gre lahko Julijanov ojačevalec do 12\, Aleš pa je namesto zvočnika za orgle kupil kar starinsko omaro. \nPričakujte nepričakovano. Nekaj novih skladb že osvaja radijske valove\, druge pa bodo poslušalci lahko prvič slišali prav na koncertu. \nVSTOPNICE:\n– Predprodaja: 13 €\n– Dan dogodka: 15 €
URL:https://lokalpatriot.si/dogodek/prismojeni-profesorji-bluesa/
LOCATION:kavarna LokalPatriot\, Rozmanova ulica 21\, Novo mesto\, 8000\, Slovenia
CATEGORIES:Koncert
ATTACH;FMTTYPE=image/png:https://lokalpatriot.si/wp-content/uploads/2026/04/Prismojeni-profesorji-1-1.png
END:VEVENT
BEGIN:VEVENT
DTSTART;VALUE=DATE:20260528
DTEND;VALUE=DATE:20260607
DTSTAMP:20260419T200738
CREATED:20260313T163632Z
LAST-MODIFIED:20260326T172211Z
UID:14888-1779926400-1780790399@lokalpatriot.si
SUMMARY:Erasmus+ Training Course: Sound of Inclusion
DESCRIPTION:Iščemo 3 udeležence iz Slovenije za mednarodni Erasmus+ trening “Sound of Inclusion: Music-based tools in youth work”\, ki bo potekal 28. 5.–6. 6. 2026 v Pinarelli di Cervia v Italiji (blizu Bologne). \nTrening je namenjen mladinskim delavcem\, prostovoljcem\, facilitatorjem\, umetnikom ali drugim\, ki jih zanima uporaba glasbe kot orodja za vključevanje\, dobrobit in aktivno participacijo mladih. Program temelji na metodah neformalnega učenja\, praktičnih delavnicah\, kreativnem sodelovanju in medkulturni izmenjavi. \nUdeleženci bodo spoznavali različne glasbene in ustvarjalne metode za delo z mladimi\, razvijali kompetence za delo v raznolikih okoljih ter izmenjevali dobre prakse z udeleženci iz več evropskih držav. \nOrganizatorji krijejo nastanitev in prehrano\, potni stroški pa so povrnjeni v skladu s pravili programa Erasmus+. \nČe te zanima sodelovanje\, nam piši na: lokalpatriot@lokalpatriot.si ali na Instagram zs
URL:https://lokalpatriot.si/dogodek/erasmus-training-course-sound-of-inclusion/
LOCATION:Pinnarela di Cervia\, Viale Italia\, 126\, 48015 Cervia RA\, Italija\, Italy
CATEGORIES:Erasmus+
ATTACH;FMTTYPE=image/png:https://lokalpatriot.si/wp-content/uploads/2026/03/Graphic_NoLogos_horizontal.png
END:VEVENT
BEGIN:VEVENT
DTSTART;TZID=Europe/Ljubljana:20260529T203000
DTEND;TZID=Europe/Ljubljana:20260529T233000
DTSTAMP:20260419T200738
CREATED:20260313T161040Z
LAST-MODIFIED:20260313T161116Z
UID:14881-1780086600-1780097400@lokalpatriot.si
SUMMARY:Jazz večer: Mind Tree
DESCRIPTION:Vabljeni na koncert skupine Mind Tree\, ki bo v soboto\, 29. maja\, ob 20:30 v kavarni LokalPatriot. \nMind Tree je zasedba treh mladih in obetavnih slovenskih glasbenikov – to so bobnar Žiga Smrdel\, basist Peter Smrdel in pianist Matic Štemberger. Trio se osredotoča na ustvarjanje avtorske glasbe\, predvsem pod vplivom jazza\, improvizirane in klasične glasbe ter alternativnih zvrsti. \nAprila 2023 so izdali svoj prvenec “Catharsis“\, ki je požel odlične kritike – naslovna skladba “Catharsis” je prejela nagrado žirije tekmovanja Jazzon za najboljšo slovensko jazzovsko kompozicijo\, skladba “Mind Trip” pa je prejela nagrado mednarodne žirije za najboljšo avtorsko kompozicijo na globalnem tekmovanju “7 Virtual Jazz Club“. \n \nMind Tree – Drifting Towards Singularity (Official Music Video) \nMind Tree – Suite for Shattered Dreams (Live @Cankarjev dom)
URL:https://lokalpatriot.si/dogodek/jazz-vecer-mind-tree/
LOCATION:kavarna LokalPatriot\, Rozmanova ulica 21\, Novo mesto\, 8000\, Slovenia
CATEGORIES:Koncert
ATTACH;FMTTYPE=image/png:https://lokalpatriot.si/wp-content/uploads/2026/03/MIND-TREE-1.png
END:VEVENT
BEGIN:VEVENT
DTSTART;TZID=Europe/Ljubljana:20260530T203000
DTEND;TZID=Europe/Ljubljana:20260530T223000
DTSTAMP:20260419T200738
CREATED:20260216T140703Z
LAST-MODIFIED:20260415T134353Z
UID:14347-1780173000-1780180200@lokalpatriot.si
SUMMARY:CowboyZ: We Are Here As One
DESCRIPTION:Vabljeni na koncert skupine CowboyZ\, ki bo v soboto\, 30. maja\, ob 20:30. Se vidimo!\n\nPredprodaja: 10 €\nDan dogodka: 12 €\nDijaki/Študenti: 5 € (nakup možen samo v živo).\nCowboyZ (prej Cowboys From Hell) je petčlanska zasedba z Obale\, ki deluje od konca leta 2014. S prva so začeli kot metal cover band\, ki pa je prerastel v avtorsko zverino. Zgledujejo se po legendarnih velikanih\, kot so Pantera\, Metallica\, Machine Head\, Alice In Chains\, Sepultura itd in novodobnih izvajalcih kot so Korn\, Architects\, Gojira\, itd. \nIgrali so že po vseh večjih in malih klubih po celotni Sloveniji in na Hrvaškem\, Avstriji in Nemčiji. Odlikuje jih neizprosna ostrina zvoka\, energija\, uigranost in povezanost. \nLeta 2022 so izdali svojo prvo avtorsko pesem z naslovom Leave Me Alone. Nekaj leta kasneje 13.9.2025 pa svoj prvi studijski album z naslovom We Are Here As One\, ki vsebuje 8 skladb in je izdan v samozaložbi. \nZakaj tak naslov albuma? Ker nastopajo enotni kot eno.\nBend sestavljajo prekaljeni glasbeniki iz bivših in sedanjih skupin\, kot so Revolver\, AlmostRage\, MIT\, Su-Shine\, Lady’s First\, Angelcorpse… in to so:  \nIgor Zonta – vokal\,  \nMiha “Buco” Oman – kitara\,  \nVasilij Sušanj – kitara\,  \nEjaq Udovič – bas\,  \nAndrea Janko – bobni.\n\nNjihov moto je NOGE NA V PA ČEU U TVA! Pridite na koncert in poglejte\, kaj to pomeni. \nFacebook:  ​ https://www.facebook.com/cfhslo/ \nBandcamp: https://cowboyz.bandcamp.com/ \nMail: cfhslo5@gmail.com \nYoutube kanal: youtube.com/@cfhslo \nInstagram: https://www.instagram.com/cfhslo/
URL:https://lokalpatriot.si/dogodek/cowboyz-we-are-here-as-one/
CATEGORIES:Koncert
ATTACH;FMTTYPE=image/png:https://lokalpatriot.si/wp-content/uploads/2026/02/cowboyz-1-2.png
END:VEVENT
BEGIN:VEVENT
DTSTART;TZID=Europe/Ljubljana:20260612T203000
DTEND;TZID=Europe/Ljubljana:20260612T223000
DTSTAMP:20260419T200738
CREATED:20260408T082235Z
LAST-MODIFIED:20260408T082235Z
UID:15093-1781296200-1781303400@lokalpatriot.si
SUMMARY:Jazz večer: Vid Bavcon Quartet
DESCRIPTION:Vabljeni na Jazz večer\, kjer bodo nastopili Vid Bavcon Quartet\, in sicer v petek\, 12. junija\, ob 20:30. Če bo lepo vreme\, bomo zunaj\, na naši terasi\, v primeru dežja\, pa bomo v kavarni LokalPatriot. \nO zasedbi   \nVid Bavcon Quartet je sodobna jazzovska zasedba iz Slovenije\, ki jo vodi trobentač in  skladatelj Vid Bavcon. Skupino sestavljajo štirje izraziti mladi glasbeniki\, ki jih  povezuje globoko spoštovanje do jazzovske tradicije ter želja po raziskovanju izraznih  možnosti sodobnega jazza.   \nKvartet izvaja predvsem avtorsko glasbo\, ki črpa navdih iz bogate dediščine jazza\,  hkrati pa vključuje sodobni harmonski jezik\, odprto improvizacijo in kolektivno  glasbeno interakcijo. Njihova glasba združuje liričnost\, ritmično energijo in spontano  glasbeno komunikacijo\, kar ustvarja zvočno podobo\, ki je hkrati zasidrana v tradiciji in  usmerjena v prihodnost.   \nGlasbeniki:   \nVid Bavcon – trobenta   \nAljoša Kavčič – klavir   \nMarko Momčilović – kontrabas   \nTijan Grašič – bobni   \nPosnetki:   \nBlurred Mindscape (V. Bavcon)  \nThe Other Night (V. Bavcon) 
URL:https://lokalpatriot.si/dogodek/jazz-vecer-vid-bavcon-quartet/
LOCATION:Terasa LokalPatriot\, Rozmanova ulica 21\, Novo mesto\, 8000\, Slovenia
CATEGORIES:Koncert
ATTACH;FMTTYPE=image/png:https://lokalpatriot.si/wp-content/uploads/2026/04/VID-BAVCON-1.png
END:VEVENT
BEGIN:VEVENT
DTSTART;VALUE=DATE:20260817
DTEND;VALUE=DATE:20260823
DTSTAMP:20260419T200738
CREATED:20260403T182328Z
LAST-MODIFIED:20260403T102722Z
UID:15075-1786924800-1787443199@lokalpatriot.si
SUMMARY:Jazzinty 2026
DESCRIPTION:Festival Jazzinty se tudi letos vrača v Novo mesto. LokalPatriot sodeluje kot koproducent festivala. \nVeč o festivalu in delavnicah: jazzinty.com
URL:https://lokalpatriot.si/dogodek/jazzinty-2026/
CATEGORIES:Delavnice,Koncert
ATTACH;FMTTYPE=image/jpeg:https://lokalpatriot.si/wp-content/uploads/2026/04/ZNM_Jazzinty_Facebook_event_cover_faza_1_b-1.jpg
END:VEVENT
END:VCALENDAR