BEGIN:VCALENDAR
VERSION:2.0
PRODID:-//LokalPatriot - ECPv6.15.13.1//NONSGML v1.0//EN
CALSCALE:GREGORIAN
METHOD:PUBLISH
X-WR-CALNAME:LokalPatriot
X-ORIGINAL-URL:https://lokalpatriot.si
X-WR-CALDESC:Dogodki za LokalPatriot
REFRESH-INTERVAL;VALUE=DURATION:PT1H
X-Robots-Tag:noindex
X-PUBLISHED-TTL:PT1H
BEGIN:VTIMEZONE
TZID:Europe/Ljubljana
BEGIN:DAYLIGHT
TZOFFSETFROM:+0100
TZOFFSETTO:+0200
TZNAME:CEST
DTSTART:20250330T010000
END:DAYLIGHT
BEGIN:STANDARD
TZOFFSETFROM:+0200
TZOFFSETTO:+0100
TZNAME:CET
DTSTART:20251026T010000
END:STANDARD
BEGIN:DAYLIGHT
TZOFFSETFROM:+0100
TZOFFSETTO:+0200
TZNAME:CEST
DTSTART:20260329T010000
END:DAYLIGHT
BEGIN:STANDARD
TZOFFSETFROM:+0200
TZOFFSETTO:+0100
TZNAME:CET
DTSTART:20261025T010000
END:STANDARD
BEGIN:DAYLIGHT
TZOFFSETFROM:+0100
TZOFFSETTO:+0200
TZNAME:CEST
DTSTART:20270328T010000
END:DAYLIGHT
BEGIN:STANDARD
TZOFFSETFROM:+0200
TZOFFSETTO:+0100
TZNAME:CET
DTSTART:20271031T010000
END:STANDARD
END:VTIMEZONE
BEGIN:VEVENT
DTSTART;TZID=Europe/Ljubljana:20260313T200000
DTEND;TZID=Europe/Ljubljana:20260314T000000
DTSTAMP:20260419T223742
CREATED:20260302T102521Z
LAST-MODIFIED:20260302T102822Z
UID:14665-1773432000-1773446400@lokalpatriot.si
SUMMARY:DIJASKOTEKA
DESCRIPTION:Pripravi se na novomeško Dijaskoteko! \n– 13.3.\n– 20.00\n– kavarna LokalPatriot\n– dresscode: yugo 80′\n– cena karte: 3€ (na dan dogodka: 5€)\n– 16+ z osebnim dokumentom \nPripelji prijatelje in pridite polni energije\, saj vas čaka nepozabna noč polna najboljših YUGO-ROCK hitov! Celo noč nas bodo spremljali hudi ritmi 80-ih\, zato se za še boljši vajb oblecite temu primerno s svojim najljubšim fitom from the 80s. Plesišče je že ready\, mankaš samo še ti!
URL:https://lokalpatriot.si/dogodek/dijaskoteka/
LOCATION:kavarna LokalPatriot\, Rozmanova ulica 21\, Novo mesto\, 8000\, Slovenia
CATEGORIES:Zabava
ATTACH;FMTTYPE=image/png:https://lokalpatriot.si/wp-content/uploads/2026/03/3.png
END:VEVENT
END:VCALENDAR