BEGIN:VCALENDAR
VERSION:2.0
PRODID:-//LokalPatriot - ECPv6.15.13.1//NONSGML v1.0//EN
CALSCALE:GREGORIAN
METHOD:PUBLISH
X-ORIGINAL-URL:https://lokalpatriot.si
X-WR-CALDESC:Dogodki za LokalPatriot
REFRESH-INTERVAL;VALUE=DURATION:PT1H
X-Robots-Tag:noindex
X-PUBLISHED-TTL:PT1H
BEGIN:VTIMEZONE
TZID:Europe/Ljubljana
BEGIN:DAYLIGHT
TZOFFSETFROM:+0100
TZOFFSETTO:+0200
TZNAME:CEST
DTSTART:20250330T010000
END:DAYLIGHT
BEGIN:STANDARD
TZOFFSETFROM:+0200
TZOFFSETTO:+0100
TZNAME:CET
DTSTART:20251026T010000
END:STANDARD
BEGIN:DAYLIGHT
TZOFFSETFROM:+0100
TZOFFSETTO:+0200
TZNAME:CEST
DTSTART:20260329T010000
END:DAYLIGHT
BEGIN:STANDARD
TZOFFSETFROM:+0200
TZOFFSETTO:+0100
TZNAME:CET
DTSTART:20261025T010000
END:STANDARD
BEGIN:DAYLIGHT
TZOFFSETFROM:+0100
TZOFFSETTO:+0200
TZNAME:CEST
DTSTART:20270328T010000
END:DAYLIGHT
BEGIN:STANDARD
TZOFFSETFROM:+0200
TZOFFSETTO:+0100
TZNAME:CET
DTSTART:20271031T010000
END:STANDARD
END:VTIMEZONE
BEGIN:VEVENT
DTSTART;TZID=Europe/Ljubljana:20260130T160000
DTEND;TZID=Europe/Ljubljana:20260130T190000
DTSTAMP:20260419T235902
CREATED:20260114T121311Z
LAST-MODIFIED:20260114T121311Z
UID:13930-1769788800-1769799600@lokalpatriot.si
SUMMARY:Clash Royale Turnir
DESCRIPTION:Igraš Clash Royale? \n\n Potem se prijavi na Clash Royale Turnir Društva novomeških študentov\, ki bo potekal v petek\, 30. 1. 2026 ob 16:00 v kavarni LokalPatriot.\n Sistem igre bo določen glede na število prijavljenih\, o njem pa boste predhodno obveščeni  preko vaše telefonske številke.\n\n Glavne nagrade so paysafe kartice v višini 10€ za prva tri mesta.\n\nPovezava za prijavo: Google Forms
URL:https://lokalpatriot.si/dogodek/clash-royale-turnir/
LOCATION:kavarna LokalPatriot\, Rozmanova ulica 21\, Novo mesto\, 8000\, Slovenia
CATEGORIES:Zabava
ATTACH;FMTTYPE=image/png:https://lokalpatriot.si/wp-content/uploads/2026/01/clashhh.png
ORGANIZER;CN="Dru%C5%A1tvo novome%C5%A1kih %C5%A1tudentov":MAILTO:info@drustvo-dns.si
END:VEVENT
END:VCALENDAR