BEGIN:VCALENDAR
VERSION:2.0
PRODID:-//LokalPatriot - ECPv6.15.13.1//NONSGML v1.0//EN
CALSCALE:GREGORIAN
METHOD:PUBLISH
X-ORIGINAL-URL:https://lokalpatriot.si
X-WR-CALDESC:Dogodki za LokalPatriot
REFRESH-INTERVAL;VALUE=DURATION:PT1H
X-Robots-Tag:noindex
X-PUBLISHED-TTL:PT1H
BEGIN:VTIMEZONE
TZID:Europe/Ljubljana
BEGIN:DAYLIGHT
TZOFFSETFROM:+0100
TZOFFSETTO:+0200
TZNAME:CEST
DTSTART:20250330T010000
END:DAYLIGHT
BEGIN:STANDARD
TZOFFSETFROM:+0200
TZOFFSETTO:+0100
TZNAME:CET
DTSTART:20251026T010000
END:STANDARD
BEGIN:DAYLIGHT
TZOFFSETFROM:+0100
TZOFFSETTO:+0200
TZNAME:CEST
DTSTART:20260329T010000
END:DAYLIGHT
BEGIN:STANDARD
TZOFFSETFROM:+0200
TZOFFSETTO:+0100
TZNAME:CET
DTSTART:20261025T010000
END:STANDARD
BEGIN:DAYLIGHT
TZOFFSETFROM:+0100
TZOFFSETTO:+0200
TZNAME:CEST
DTSTART:20270328T010000
END:DAYLIGHT
BEGIN:STANDARD
TZOFFSETFROM:+0200
TZOFFSETTO:+0100
TZNAME:CET
DTSTART:20271031T010000
END:STANDARD
END:VTIMEZONE
BEGIN:VEVENT
DTSTART;TZID=Europe/Ljubljana:20260307T203000
DTEND;TZID=Europe/Ljubljana:20260307T233000
DTSTAMP:20260419T200747
CREATED:20260202T200842Z
LAST-MODIFIED:20260220T161751Z
UID:14164-1772915400-1772926200@lokalpatriot.si
SUMMARY:Okl's FruitLoops Album Release Show x Bajta 23
DESCRIPTION:Vabljeni na predstavitev albuma Scream of Silence skupine Okl’s FruitLoops!\nVečer bo odprla predskupina Bajta 23\, celoten glasbeni dogodek pa se bo odvijal v soboto\, 7. marca\, ob 20.30. \n——————————————— \nČASOVNICA:\n20:30: Vrata\n20:45: Bajta 23\n21:45: Okl’s FruitLoops \n  \nKARTE:\nPredprodaja: 10 € \n——————————————— \nOKL’S FRUITLOOPS\nOkl’s FruitLoops je melodic death metal band\,ki prihajajo iz okolice Dolenjske. Hitri in ostri rifi\, temačne melodije ter agresivni vokali ustvarjajo surov in neposreden zvok v duhu bendov\, kot so Children of Bodom\, Kalmah\, Arch Enemy in In Flames…\nNjihovi nastopi v živo so glasni\, hitri in namenjeni publiki\, ki išče pravi underground metal. Z albumom Scream of Silence predstavljajo material\, ki ostaja zvest koreninam melodic death metala in govori sam zase. \nPovezave: \n\nYouTube: https://youtube.com/@oklsfruitloops6?si=Y0qwGzxLg_Ex7_YO\nLinktree: https://linktr.ee/oklsfruitloops\n\n  \nBAJTA23\nBrez dlake na jeziku\, brez fige u žepu in brez zadržkov da bi užalili uradno osebo.\nTake ns je bog naredu zdej mu je pa žou.\nIgramo pank in skrbi nas za vas. \nFB: https://www.facebook.com/share/17wkvzqDS7/\nIG: https://www.instagram.com/bajta_23?igsh=NjhscGQycDEyeDZ4 \n  \n 
URL:https://lokalpatriot.si/dogodek/okls-fruitloops-album-release-show-x-bajta-23/
LOCATION:Klub LokalPatriot\, Rozmanova ulica 21\, Novo mesto\, 8000\, Slovenia
CATEGORIES:Koncert
ATTACH;FMTTYPE=image/png:https://lokalpatriot.si/wp-content/uploads/2026/02/Okls-fruit-1-1.png
END:VEVENT
END:VCALENDAR