BEGIN:VCALENDAR
VERSION:2.0
PRODID:-//LokalPatriot - ECPv6.15.13.1//NONSGML v1.0//EN
CALSCALE:GREGORIAN
METHOD:PUBLISH
X-ORIGINAL-URL:https://lokalpatriot.si
X-WR-CALDESC:Dogodki za LokalPatriot
REFRESH-INTERVAL;VALUE=DURATION:PT1H
X-Robots-Tag:noindex
X-PUBLISHED-TTL:PT1H
BEGIN:VTIMEZONE
TZID:Europe/Ljubljana
BEGIN:DAYLIGHT
TZOFFSETFROM:+0100
TZOFFSETTO:+0200
TZNAME:CEST
DTSTART:20250330T010000
END:DAYLIGHT
BEGIN:STANDARD
TZOFFSETFROM:+0200
TZOFFSETTO:+0100
TZNAME:CET
DTSTART:20251026T010000
END:STANDARD
BEGIN:DAYLIGHT
TZOFFSETFROM:+0100
TZOFFSETTO:+0200
TZNAME:CEST
DTSTART:20260329T010000
END:DAYLIGHT
BEGIN:STANDARD
TZOFFSETFROM:+0200
TZOFFSETTO:+0100
TZNAME:CET
DTSTART:20261025T010000
END:STANDARD
BEGIN:DAYLIGHT
TZOFFSETFROM:+0100
TZOFFSETTO:+0200
TZNAME:CEST
DTSTART:20270328T010000
END:DAYLIGHT
BEGIN:STANDARD
TZOFFSETFROM:+0200
TZOFFSETTO:+0100
TZNAME:CET
DTSTART:20271031T010000
END:STANDARD
END:VTIMEZONE
BEGIN:VEVENT
DTSTART;TZID=Europe/Ljubljana:20260306T200000
DTEND;TZID=Europe/Ljubljana:20260306T230000
DTSTAMP:20260419T200703
CREATED:20260129T200502Z
LAST-MODIFIED:20260220T162501Z
UID:14138-1772827200-1772838000@lokalpatriot.si
SUMMARY:Slon in Cvet je v jeseni
DESCRIPTION:V petek\, 6. marca\, ob 20.00 bodo v LokalPatriotu nastopili Slon in Cvet je v jeseni. Skupino vodi član legendarne novomeške skupine Rudolfovo\, Cveto Šali\, kitarist in pevec. Družbo mu delajo Janez Lamovšek (pevec)\, Mitja Simič (kitara\, vokal\, orglice)\, Jernej Ban (bas) in Gusti Vrtar (bobni).  Igrali bodo glasbo skupine Rudolfovo\, avtorske skladbe\, Eaglese\, Doobise\, The band\, Aĺlmane\, blues … skratka: zvoki 70-ih let. \nKot gosti bodo na odru nastopili: Mitja (saksofon) in Gregor Turk (pozavna) (Generator) ter Marijan Dović (violina). \n  \nCena vstopnic:\n– študenti in dijaki: 5 € (v predprodaji v LokalPatriotu)\n– predprodaja: 8 €\n– dan dogodka: 10 € \n  \nČASOVNICA:\nVrata: 20.00\nKoncert: 20.30 \n  \n 
URL:https://lokalpatriot.si/dogodek/slon-in-cvet-je-v-jeseni/
LOCATION:Klub LokalPatriot\, Rozmanova ulica 21\, Novo mesto\, 8000\, Slovenia
CATEGORIES:Koncert
ATTACH;FMTTYPE=image/png:https://lokalpatriot.si/wp-content/uploads/2026/01/Cvet-je-v-Jeseni-1-1.png
END:VEVENT
END:VCALENDAR