BEGIN:VCALENDAR
VERSION:2.0
PRODID:-//LokalPatriot - ECPv6.15.13.1//NONSGML v1.0//EN
CALSCALE:GREGORIAN
METHOD:PUBLISH
X-ORIGINAL-URL:https://lokalpatriot.si
X-WR-CALDESC:Dogodki za LokalPatriot
REFRESH-INTERVAL;VALUE=DURATION:PT1H
X-Robots-Tag:noindex
X-PUBLISHED-TTL:PT1H
BEGIN:VTIMEZONE
TZID:Europe/Ljubljana
BEGIN:DAYLIGHT
TZOFFSETFROM:+0100
TZOFFSETTO:+0200
TZNAME:CEST
DTSTART:20250330T010000
END:DAYLIGHT
BEGIN:STANDARD
TZOFFSETFROM:+0200
TZOFFSETTO:+0100
TZNAME:CET
DTSTART:20251026T010000
END:STANDARD
BEGIN:DAYLIGHT
TZOFFSETFROM:+0100
TZOFFSETTO:+0200
TZNAME:CEST
DTSTART:20260329T010000
END:DAYLIGHT
BEGIN:STANDARD
TZOFFSETFROM:+0200
TZOFFSETTO:+0100
TZNAME:CET
DTSTART:20261025T010000
END:STANDARD
BEGIN:DAYLIGHT
TZOFFSETFROM:+0100
TZOFFSETTO:+0200
TZNAME:CEST
DTSTART:20270328T010000
END:DAYLIGHT
BEGIN:STANDARD
TZOFFSETFROM:+0200
TZOFFSETTO:+0100
TZNAME:CET
DTSTART:20271031T010000
END:STANDARD
END:VTIMEZONE
BEGIN:VEVENT
DTSTART;TZID=Europe/Ljubljana:20260228T203000
DTEND;TZID=Europe/Ljubljana:20260301T003000
DTSTAMP:20260419T200703
CREATED:20260113T131404Z
LAST-MODIFIED:20260228T065030Z
UID:13919-1772310600-1772325000@lokalpatriot.si
SUMMARY:Koncert: Alo!Stari + Jaja Bojz
DESCRIPTION:Vabljeni na koncert zasedb Alo!Stari in Jaja Bojz\, ki bo v soboto\, 28. februarja\, od 20:30 dalje. \n  \nČasovnica:\n– 20:30 Vrata\n– 21:00 Jaja Bojz\n– 22:15 Alo!Stari \nVstopnina:\n– EarlyBird: 12 €\n– Predprodaja: 15 € \n– Na vhodu: 18 € \n  \nAlo!Stari je energična punk rock zasedba iz Maribora\, ki deluje od leta 2019. Njihov zvok črpa navdih v skate punku devetdesetih\, besedila pa so zapeta v mariborskem narečju\, kar jim daje prepoznaven karakter. Člane benda sestavljajo Tine Matjašič (vokal)\, Matic Mlakar (kitara)\, Jernej Metež (kitara)\, Matej Kosmačin (bas) in Tomaž Medvar (bobni). Preden so združili moči\, so igrali v skupinah\, kot so Trash Candy\, Happy ol’ Mc Weasel\, Low Value\, Multiball in Burning Legion. \nPrvenec »Pa kaj te s tao je?« so izdali leta 2021\, marca 2023 pa še svoj drugi album »Sem prii\, nič ti neom!«. Med najbolj priljubljenimi komadi so »Nea vem kam«\, »Star« in seveda »Alo\, stari!«\, ki vedno zanetijo noro energijo na njihovih koncertih. Zasedba je znana po pristnih\, udarnih nastopih\, ki vedno navdušijo publiko.
URL:https://lokalpatriot.si/dogodek/koncert-alostari-jaja-bojz-2/
LOCATION:Klub LokalPatriot\, Rozmanova ulica 21\, Novo mesto\, 8000\, Slovenia
CATEGORIES:Koncert
ATTACH;FMTTYPE=image/png:https://lokalpatriot.si/wp-content/uploads/2026/01/AloStari-3-1.png
END:VEVENT
END:VCALENDAR