BEGIN:VCALENDAR
VERSION:2.0
PRODID:-//LokalPatriot - ECPv6.15.13.1//NONSGML v1.0//EN
CALSCALE:GREGORIAN
METHOD:PUBLISH
X-ORIGINAL-URL:https://lokalpatriot.si
X-WR-CALDESC:Dogodki za LokalPatriot
REFRESH-INTERVAL;VALUE=DURATION:PT1H
X-Robots-Tag:noindex
X-PUBLISHED-TTL:PT1H
BEGIN:VTIMEZONE
TZID:Europe/Ljubljana
BEGIN:DAYLIGHT
TZOFFSETFROM:+0100
TZOFFSETTO:+0200
TZNAME:CEST
DTSTART:20250330T010000
END:DAYLIGHT
BEGIN:STANDARD
TZOFFSETFROM:+0200
TZOFFSETTO:+0100
TZNAME:CET
DTSTART:20251026T010000
END:STANDARD
BEGIN:DAYLIGHT
TZOFFSETFROM:+0100
TZOFFSETTO:+0200
TZNAME:CEST
DTSTART:20260329T010000
END:DAYLIGHT
BEGIN:STANDARD
TZOFFSETFROM:+0200
TZOFFSETTO:+0100
TZNAME:CET
DTSTART:20261025T010000
END:STANDARD
BEGIN:DAYLIGHT
TZOFFSETFROM:+0100
TZOFFSETTO:+0200
TZNAME:CEST
DTSTART:20270328T010000
END:DAYLIGHT
BEGIN:STANDARD
TZOFFSETFROM:+0200
TZOFFSETTO:+0100
TZNAME:CET
DTSTART:20271031T010000
END:STANDARD
END:VTIMEZONE
BEGIN:VEVENT
DTSTART;TZID=Europe/Ljubljana:20260130T203000
DTEND;TZID=Europe/Ljubljana:20260130T233000
DTSTAMP:20260419T214040
CREATED:20260111T162316Z
LAST-MODIFIED:20260111T162316Z
UID:13892-1769805000-1769815800@lokalpatriot.si
SUMMARY:KARAOKE VEČER #1
DESCRIPTION:Vabljeni na karaoke večer\, namenjen vsem ljubiteljem glasbe in nastopanja. Dogodek ponuja priložnost\, da se predstavite s svojim glasom\, bodisi solo ali v skupini\, lahko pa pridete zgolj poslušat oz. spodbujat prijatelje_ice. \nK sodelovanju vabljeni tako izkušeni nastopajoči kot tudi tisti\, ki se želite preizkusiti prvič. \n📅 Datum: petek\, 30. 1. 2026\n🕖 Ura: 20.30\n📍 Lokacija: kavarna LokalPatriot \nPrijave: Google Forms / IG zs / lokalpatriot@lokalpatriot.si \nPrijava je zaželjena\, da lahko zagotovimo vse skladbe \nPrijave sprejemamo tudi v živo na dan dogodka.
URL:https://lokalpatriot.si/dogodek/karaoke-vecer-1/
LOCATION:kavarna LokalPatriot\, Rozmanova ulica 21\, Novo mesto\, 8000\, Slovenia
CATEGORIES:Karaoke
ATTACH;FMTTYPE=image/png:https://lokalpatriot.si/wp-content/uploads/2026/01/Untitled-4.png
END:VEVENT
END:VCALENDAR