BEGIN:VCALENDAR
VERSION:2.0
PRODID:-//LokalPatriot - ECPv6.15.13.1//NONSGML v1.0//EN
CALSCALE:GREGORIAN
METHOD:PUBLISH
X-WR-CALNAME:LokalPatriot
X-ORIGINAL-URL:https://lokalpatriot.si
X-WR-CALDESC:Dogodki za LokalPatriot
REFRESH-INTERVAL;VALUE=DURATION:PT1H
X-Robots-Tag:noindex
X-PUBLISHED-TTL:PT1H
BEGIN:VTIMEZONE
TZID:Europe/Ljubljana
BEGIN:DAYLIGHT
TZOFFSETFROM:+0100
TZOFFSETTO:+0200
TZNAME:CEST
DTSTART:20250330T010000
END:DAYLIGHT
BEGIN:STANDARD
TZOFFSETFROM:+0200
TZOFFSETTO:+0100
TZNAME:CET
DTSTART:20251026T010000
END:STANDARD
BEGIN:DAYLIGHT
TZOFFSETFROM:+0100
TZOFFSETTO:+0200
TZNAME:CEST
DTSTART:20260329T010000
END:DAYLIGHT
BEGIN:STANDARD
TZOFFSETFROM:+0200
TZOFFSETTO:+0100
TZNAME:CET
DTSTART:20261025T010000
END:STANDARD
BEGIN:DAYLIGHT
TZOFFSETFROM:+0100
TZOFFSETTO:+0200
TZNAME:CEST
DTSTART:20270328T010000
END:DAYLIGHT
BEGIN:STANDARD
TZOFFSETFROM:+0200
TZOFFSETTO:+0100
TZNAME:CET
DTSTART:20271031T010000
END:STANDARD
END:VTIMEZONE
BEGIN:VEVENT
DTSTART;TZID=Europe/Ljubljana:20260508T203000
DTEND;TZID=Europe/Ljubljana:20260508T233000
DTSTAMP:20260425T125345
CREATED:20260423T081110Z
LAST-MODIFIED:20260423T081149Z
UID:15276-1778272200-1778283000@lokalpatriot.si
SUMMARY:Activity večer + druge družabne igre
DESCRIPTION:📍 Kje: kavarna LokalPatriot\n📅 Kdaj: petek\, 8. maj\n🕗 Ura: 20:30 \nPrijaviš se lahko v ekipi 2–3 igralcev ali samostojno. \n👉 Število mest je omejeno\, zato pohiti s prijavo! \nSe vidimo! 🎉 \nPRIJAVA: https://forms.gle/2A8G5k5KkanhHC8W6 \n  \n 
URL:https://lokalpatriot.si/dogodek/activity-vecer-druge-druzabne-igre/
LOCATION:kavarna LokalPatriot\, Rozmanova ulica 21\, Novo mesto\, 8000\, Slovenia
CATEGORIES:Družabni večer
ATTACH;FMTTYPE=image/png:https://lokalpatriot.si/wp-content/uploads/2026/04/Activity.png
END:VEVENT
END:VCALENDAR