BEGIN:VCALENDAR
VERSION:2.0
PRODID:-//LokalPatriot - ECPv6.15.13.1//NONSGML v1.0//EN
CALSCALE:GREGORIAN
METHOD:PUBLISH
X-ORIGINAL-URL:https://lokalpatriot.si
X-WR-CALDESC:Dogodki za LokalPatriot
REFRESH-INTERVAL;VALUE=DURATION:PT1H
X-Robots-Tag:noindex
X-PUBLISHED-TTL:PT1H
BEGIN:VTIMEZONE
TZID:Europe/Ljubljana
BEGIN:DAYLIGHT
TZOFFSETFROM:+0100
TZOFFSETTO:+0200
TZNAME:CEST
DTSTART:20250330T010000
END:DAYLIGHT
BEGIN:STANDARD
TZOFFSETFROM:+0200
TZOFFSETTO:+0100
TZNAME:CET
DTSTART:20251026T010000
END:STANDARD
BEGIN:DAYLIGHT
TZOFFSETFROM:+0100
TZOFFSETTO:+0200
TZNAME:CEST
DTSTART:20260329T010000
END:DAYLIGHT
BEGIN:STANDARD
TZOFFSETFROM:+0200
TZOFFSETTO:+0100
TZNAME:CET
DTSTART:20261025T010000
END:STANDARD
BEGIN:DAYLIGHT
TZOFFSETFROM:+0100
TZOFFSETTO:+0200
TZNAME:CEST
DTSTART:20270328T010000
END:DAYLIGHT
BEGIN:STANDARD
TZOFFSETFROM:+0200
TZOFFSETTO:+0100
TZNAME:CET
DTSTART:20271031T010000
END:STANDARD
END:VTIMEZONE
BEGIN:VEVENT
DTSTART;TZID=Europe/Ljubljana:20260403T200000
DTEND;TZID=Europe/Ljubljana:20260403T220000
DTSTAMP:20260419T220558
CREATED:20260322T112030Z
LAST-MODIFIED:20260322T112030Z
UID:14988-1775246400-1775253600@lokalpatriot.si
SUMMARY:Detective for a Day: EGG MYSTERY
DESCRIPTION:NAMIZNA IGRA: Detective for a day\nPostani detektiv za en dan! Raziskuj\, zaslišuj osumljence in razkrij skrivnostni zločin v interaktivni igri polni preobratov.\nIgralci napravljeni v detektive dobijo ob vstopu welcome shot!\nKDAJ: petek\, 3. april\, ob 20.00\nKJE: kavarna LokalPatriot\nPROST VSTOP \nPRIJAVA: https://forms.gle/MaTaxw7jb8qmmWf6A
URL:https://lokalpatriot.si/dogodek/detective-for-a-day-egg-mystery/
LOCATION:kavarna LokalPatriot\, Rozmanova ulica 21\, Novo mesto\, 8000\, Slovenia
CATEGORIES:Družabni večer
ATTACH;FMTTYPE=image/png:https://lokalpatriot.si/wp-content/uploads/2026/03/Untitled-2.png
END:VEVENT
END:VCALENDAR