BEGIN:VCALENDAR
VERSION:2.0
PRODID:-//LokalPatriot - ECPv6.15.13.1//NONSGML v1.0//EN
CALSCALE:GREGORIAN
METHOD:PUBLISH
X-WR-CALNAME:LokalPatriot
X-ORIGINAL-URL:https://lokalpatriot.si
X-WR-CALDESC:Dogodki za LokalPatriot
REFRESH-INTERVAL;VALUE=DURATION:PT1H
X-Robots-Tag:noindex
X-PUBLISHED-TTL:PT1H
BEGIN:VTIMEZONE
TZID:Europe/Ljubljana
BEGIN:DAYLIGHT
TZOFFSETFROM:+0100
TZOFFSETTO:+0200
TZNAME:CEST
DTSTART:20250330T010000
END:DAYLIGHT
BEGIN:STANDARD
TZOFFSETFROM:+0200
TZOFFSETTO:+0100
TZNAME:CET
DTSTART:20251026T010000
END:STANDARD
BEGIN:DAYLIGHT
TZOFFSETFROM:+0100
TZOFFSETTO:+0200
TZNAME:CEST
DTSTART:20260329T010000
END:DAYLIGHT
BEGIN:STANDARD
TZOFFSETFROM:+0200
TZOFFSETTO:+0100
TZNAME:CET
DTSTART:20261025T010000
END:STANDARD
BEGIN:DAYLIGHT
TZOFFSETFROM:+0100
TZOFFSETTO:+0200
TZNAME:CEST
DTSTART:20270328T010000
END:DAYLIGHT
BEGIN:STANDARD
TZOFFSETFROM:+0200
TZOFFSETTO:+0100
TZNAME:CET
DTSTART:20271031T010000
END:STANDARD
END:VTIMEZONE
BEGIN:VEVENT
DTSTART;TZID=Europe/Ljubljana:20260327T203000
DTEND;TZID=Europe/Ljubljana:20260327T223000
DTSTAMP:20260421T194715
CREATED:20260218T110550Z
LAST-MODIFIED:20260324T092111Z
UID:14387-1774643400-1774650600@lokalpatriot.si
SUMMARY:Film: Praslovan
DESCRIPTION:Film Slobodana Maksimovića\nZoran Predin\nPRASLOVAN \nSINOPSIS\nPraslovan je čustvena in navdihujoča biografska drama\, ki spremlja življenje in kariero enega najpomembnejših\nkantavtorjev nekdanje Jugoslavije\, Zorana Predina. Film razkriva njegovo pot od mladosti v Mariboru\, kjer se je začel ukvarjati z glasbo\, do vrhunca slave s skupino Lačni Franz in solo kariere\, ki je iz njega naredila ikono glasbene scene. \nSkozi retrospektivo njegovih največjih uspešnic film pokaže\, kako so njegove pesmi odsevale družbene spremembe in osebne pretrese.\nFilm se konča z intimnim pogledom na Zoranovo življenje\, vključno z njegovimi vzponi in padci ter vplivom na njegovo družino in prijatelje.\nSkozi film nas vodijo velikani jugoslovanske glasbene\, literarne\, filmske in športne scene\, kot so Đorđe Balašević\, Branko Đurić\, Miljenko Jergović\, Gabi Novak\, Juret Franko\, Zoran Čutura\, Magnifico\, Petar Janjatović\, Ante Tomić\, Aleksandar Stanković … \nProst vstop – PRIJAVE: https://forms.gle/ENqMubuKsmn1oMEM6
URL:https://lokalpatriot.si/dogodek/film-praslovan/
LOCATION:kavarna LokalPatriot\, Rozmanova ulica 21\, Novo mesto\, 8000\, Slovenia
CATEGORIES:Družabni večer
ATTACH;FMTTYPE=image/png:https://lokalpatriot.si/wp-content/uploads/2026/02/Untitled.png
END:VEVENT
END:VCALENDAR