BEGIN:VCALENDAR
VERSION:2.0
PRODID:-//LokalPatriot - ECPv6.15.13.1//NONSGML v1.0//EN
CALSCALE:GREGORIAN
METHOD:PUBLISH
X-WR-CALNAME:LokalPatriot
X-ORIGINAL-URL:https://lokalpatriot.si
X-WR-CALDESC:Dogodki za LokalPatriot
REFRESH-INTERVAL;VALUE=DURATION:PT1H
X-Robots-Tag:noindex
X-PUBLISHED-TTL:PT1H
BEGIN:VTIMEZONE
TZID:Europe/Ljubljana
BEGIN:DAYLIGHT
TZOFFSETFROM:+0100
TZOFFSETTO:+0200
TZNAME:CEST
DTSTART:20250330T010000
END:DAYLIGHT
BEGIN:STANDARD
TZOFFSETFROM:+0200
TZOFFSETTO:+0100
TZNAME:CET
DTSTART:20251026T010000
END:STANDARD
BEGIN:DAYLIGHT
TZOFFSETFROM:+0100
TZOFFSETTO:+0200
TZNAME:CEST
DTSTART:20260329T010000
END:DAYLIGHT
BEGIN:STANDARD
TZOFFSETFROM:+0200
TZOFFSETTO:+0100
TZNAME:CET
DTSTART:20261025T010000
END:STANDARD
BEGIN:DAYLIGHT
TZOFFSETFROM:+0100
TZOFFSETTO:+0200
TZNAME:CEST
DTSTART:20270328T010000
END:DAYLIGHT
BEGIN:STANDARD
TZOFFSETFROM:+0200
TZOFFSETTO:+0100
TZNAME:CET
DTSTART:20271031T010000
END:STANDARD
END:VTIMEZONE
BEGIN:VEVENT
DTSTART;TZID=Europe/Ljubljana:20260326T190000
DTEND;TZID=Europe/Ljubljana:20260326T210000
DTSTAMP:20260421T211448
CREATED:20260320T153157Z
LAST-MODIFIED:20260320T153157Z
UID:14982-1774551600-1774558800@lokalpatriot.si
SUMMARY:Tarok večer #4
DESCRIPTION:V četrtek\, 26. marca\, ob 19.00 vabljeni v kavarno LokalPatriot na sproščen tarok večer! \nZa lažjo organizacijo prosimo\, da se predhodno prijavite\, lahko pa se nam samo pridružite na dan dogodka. \n👉 Prijave zbiramo preko IG zs ali na lokalpatriot@lokalpatriot.si.  \nSe vidimo v LokalPatriotu! ☕♠️
URL:https://lokalpatriot.si/dogodek/tarok-vecer-4/
LOCATION:kavarna LokalPatriot\, Rozmanova ulica 21\, Novo mesto\, 8000\, Slovenia
CATEGORIES:Družabni večer
ATTACH;FMTTYPE=image/png:https://lokalpatriot.si/wp-content/uploads/2026/03/Tarok-vecer-26_mar.png
END:VEVENT
END:VCALENDAR