BEGIN:VCALENDAR
VERSION:2.0
PRODID:-//LokalPatriot - ECPv6.15.13.1//NONSGML v1.0//EN
CALSCALE:GREGORIAN
METHOD:PUBLISH
X-ORIGINAL-URL:https://lokalpatriot.si
X-WR-CALDESC:Dogodki za LokalPatriot
REFRESH-INTERVAL;VALUE=DURATION:PT1H
X-Robots-Tag:noindex
X-PUBLISHED-TTL:PT1H
BEGIN:VTIMEZONE
TZID:Europe/Ljubljana
BEGIN:DAYLIGHT
TZOFFSETFROM:+0100
TZOFFSETTO:+0200
TZNAME:CEST
DTSTART:20250330T010000
END:DAYLIGHT
BEGIN:STANDARD
TZOFFSETFROM:+0200
TZOFFSETTO:+0100
TZNAME:CET
DTSTART:20251026T010000
END:STANDARD
BEGIN:DAYLIGHT
TZOFFSETFROM:+0100
TZOFFSETTO:+0200
TZNAME:CEST
DTSTART:20260329T010000
END:DAYLIGHT
BEGIN:STANDARD
TZOFFSETFROM:+0200
TZOFFSETTO:+0100
TZNAME:CET
DTSTART:20261025T010000
END:STANDARD
BEGIN:DAYLIGHT
TZOFFSETFROM:+0100
TZOFFSETTO:+0200
TZNAME:CEST
DTSTART:20270328T010000
END:DAYLIGHT
BEGIN:STANDARD
TZOFFSETFROM:+0200
TZOFFSETTO:+0100
TZNAME:CET
DTSTART:20271031T010000
END:STANDARD
END:VTIMEZONE
BEGIN:VEVENT
DTSTART;TZID=Europe/Ljubljana:20260418T200000
DTEND;TZID=Europe/Ljubljana:20260418T223000
DTSTAMP:20260419T180242
CREATED:20260316T172658Z
LAST-MODIFIED:20260317T102545Z
UID:14918-1776542400-1776551400@lokalpatriot.si
SUMMARY:Stand up NOVO MESTO: Žerjal\, Celec\, Gorinšek\, Poredoš
DESCRIPTION: STAND UP \nV soboto\, 18.4.\, nas pridejo v LokalPatriot nasmejat kar štirje slovenski komiki: Marko Žerjal\, Jernej Celec\, David Gorinšek in Aljaž Poredoš!\nZačetek: 20.00Vstopnina: 12 € v predprodaji\, 15 € na dan dogodka\n\nVSTOPNICE: https://olaii.com/event/9723/stand-up-novo-mesto-zerjal-celec-gorinsek-poredos/
URL:https://lokalpatriot.si/dogodek/stand-up-novo-mesto-zerjal-celec-gorinsek-poredos/
LOCATION:Klub LokalPatriot\, Rozmanova ulica 21\, Novo mesto\, 8000\, Slovenia
CATEGORIES:Stand-Up
ATTACH;FMTTYPE=image/jpeg:https://lokalpatriot.si/wp-content/uploads/2026/03/650787695_1271416198437955_214115480011429362_n.jpg
END:VEVENT
END:VCALENDAR