BEGIN:VCALENDAR
VERSION:2.0
PRODID:-//LokalPatriot - ECPv6.15.13.1//NONSGML v1.0//EN
CALSCALE:GREGORIAN
METHOD:PUBLISH
X-WR-CALNAME:LokalPatriot
X-ORIGINAL-URL:https://lokalpatriot.si
X-WR-CALDESC:Dogodki za LokalPatriot
REFRESH-INTERVAL;VALUE=DURATION:PT1H
X-Robots-Tag:noindex
X-PUBLISHED-TTL:PT1H
BEGIN:VTIMEZONE
TZID:Europe/Ljubljana
BEGIN:DAYLIGHT
TZOFFSETFROM:+0100
TZOFFSETTO:+0200
TZNAME:CEST
DTSTART:20250330T010000
END:DAYLIGHT
BEGIN:STANDARD
TZOFFSETFROM:+0200
TZOFFSETTO:+0100
TZNAME:CET
DTSTART:20251026T010000
END:STANDARD
BEGIN:DAYLIGHT
TZOFFSETFROM:+0100
TZOFFSETTO:+0200
TZNAME:CEST
DTSTART:20260329T010000
END:DAYLIGHT
BEGIN:STANDARD
TZOFFSETFROM:+0200
TZOFFSETTO:+0100
TZNAME:CET
DTSTART:20261025T010000
END:STANDARD
BEGIN:DAYLIGHT
TZOFFSETFROM:+0100
TZOFFSETTO:+0200
TZNAME:CEST
DTSTART:20270328T010000
END:DAYLIGHT
BEGIN:STANDARD
TZOFFSETFROM:+0200
TZOFFSETTO:+0100
TZNAME:CET
DTSTART:20271031T010000
END:STANDARD
END:VTIMEZONE
BEGIN:VEVENT
DTSTART;TZID=Europe/Ljubljana:20260309T190000
DTEND;TZID=Europe/Ljubljana:20260309T210000
DTSTAMP:20260419T195945
CREATED:20260218T135529Z
LAST-MODIFIED:20260218T135541Z
UID:14396-1773082800-1773090000@lokalpatriot.si
SUMMARY:Večer sestavljank ob dnevu žena
DESCRIPTION:V ponedeljek\, 9. marca\, vabljene in vabljeni v kavarno LokalPatriot na večer druženja ob sestavljankah. Dan žena bomo obeležili mirno ob pogovoru\, sestavljanju in druženju. \nS sabo prinesite čim težje sestavljanke – takšne\, ki že dolgo čakajo na pogum in potrpljenje. Nekaj lažjih bomo zagotovili tudi mi. Reševali bomo skupaj\, izmenjali kak trik in mogoče končno našli tisti izmuzljivi košček. \nVstop je brezplačen\, v baru pa bodo na voljo pijače po akcijskih cenah.
URL:https://lokalpatriot.si/dogodek/14396/
LOCATION:kavarna LokalPatriot\, Rozmanova ulica 21\, Novo mesto\, 8000\, Slovenia
CATEGORIES:Družabni večer
ATTACH;FMTTYPE=image/png:https://lokalpatriot.si/wp-content/uploads/2026/02/Untitled-1.png
END:VEVENT
END:VCALENDAR