BEGIN:VCALENDAR
VERSION:2.0
PRODID:-//LokalPatriot - ECPv6.15.13.1//NONSGML v1.0//EN
CALSCALE:GREGORIAN
METHOD:PUBLISH
X-ORIGINAL-URL:https://lokalpatriot.si
X-WR-CALDESC:Dogodki za LokalPatriot
REFRESH-INTERVAL;VALUE=DURATION:PT1H
X-Robots-Tag:noindex
X-PUBLISHED-TTL:PT1H
BEGIN:VTIMEZONE
TZID:Europe/Ljubljana
BEGIN:DAYLIGHT
TZOFFSETFROM:+0100
TZOFFSETTO:+0200
TZNAME:CEST
DTSTART:20250330T010000
END:DAYLIGHT
BEGIN:STANDARD
TZOFFSETFROM:+0200
TZOFFSETTO:+0100
TZNAME:CET
DTSTART:20251026T010000
END:STANDARD
BEGIN:DAYLIGHT
TZOFFSETFROM:+0100
TZOFFSETTO:+0200
TZNAME:CEST
DTSTART:20260329T010000
END:DAYLIGHT
BEGIN:STANDARD
TZOFFSETFROM:+0200
TZOFFSETTO:+0100
TZNAME:CET
DTSTART:20261025T010000
END:STANDARD
BEGIN:DAYLIGHT
TZOFFSETFROM:+0100
TZOFFSETTO:+0200
TZNAME:CEST
DTSTART:20270328T010000
END:DAYLIGHT
BEGIN:STANDARD
TZOFFSETFROM:+0200
TZOFFSETTO:+0100
TZNAME:CET
DTSTART:20271031T010000
END:STANDARD
END:VTIMEZONE
BEGIN:VEVENT
DTSTART;TZID=Europe/Ljubljana:20260129T190000
DTEND;TZID=Europe/Ljubljana:20260129T210000
DTSTAMP:20260419T215844
CREATED:20260123T161252Z
LAST-MODIFIED:20260123T161303Z
UID:14061-1769713200-1769720400@lokalpatriot.si
SUMMARY:Tarok večer #2
DESCRIPTION:V četrtek\, 29. januarja\, ob 19.00 vabljeni v kavarno LokalPatriot na sproščen tarok večer! \nZa lažjo organizacijo prosimo\, da se predhodno prijavite. \n👉 Prijave zbiramo preko Google obrazca ter IG zs. \nGoogle Forms \nSe vidimo v LokalPatriotu! ☕♠️
URL:https://lokalpatriot.si/dogodek/tarok-vecer-2/
ATTACH;FMTTYPE=image/png:https://lokalpatriot.si/wp-content/uploads/2026/01/Untitled-3.png
END:VEVENT
END:VCALENDAR