BEGIN:VCALENDAR
VERSION:2.0
PRODID:-//LokalPatriot - ECPv6.15.13.1//NONSGML v1.0//EN
CALSCALE:GREGORIAN
METHOD:PUBLISH
X-ORIGINAL-URL:https://lokalpatriot.si
X-WR-CALDESC:Dogodki za LokalPatriot
REFRESH-INTERVAL;VALUE=DURATION:PT1H
X-Robots-Tag:noindex
X-PUBLISHED-TTL:PT1H
BEGIN:VTIMEZONE
TZID:Europe/Ljubljana
BEGIN:DAYLIGHT
TZOFFSETFROM:+0100
TZOFFSETTO:+0200
TZNAME:CEST
DTSTART:20250330T010000
END:DAYLIGHT
BEGIN:STANDARD
TZOFFSETFROM:+0200
TZOFFSETTO:+0100
TZNAME:CET
DTSTART:20251026T010000
END:STANDARD
BEGIN:DAYLIGHT
TZOFFSETFROM:+0100
TZOFFSETTO:+0200
TZNAME:CEST
DTSTART:20260329T010000
END:DAYLIGHT
BEGIN:STANDARD
TZOFFSETFROM:+0200
TZOFFSETTO:+0100
TZNAME:CET
DTSTART:20261025T010000
END:STANDARD
BEGIN:DAYLIGHT
TZOFFSETFROM:+0100
TZOFFSETTO:+0200
TZNAME:CEST
DTSTART:20270328T010000
END:DAYLIGHT
BEGIN:STANDARD
TZOFFSETFROM:+0200
TZOFFSETTO:+0100
TZNAME:CET
DTSTART:20271031T010000
END:STANDARD
END:VTIMEZONE
BEGIN:VEVENT
DTSTART;TZID=Europe/Ljubljana:20260124T203000
DTEND;TZID=Europe/Ljubljana:20260124T233000
DTSTAMP:20260419T235138
CREATED:20260105T093016Z
LAST-MODIFIED:20260119T094916Z
UID:13873-1769286600-1769297400@lokalpatriot.si
SUMMARY:Jazz večer: Bone Voyage
DESCRIPTION:Vabljeni na 2. jazz večer v letu 2026\, in sicer bodo v soboto\, 24. 1. 2025\, ob 20.30 nastopili Bone Voyage! \nSkupino Bone Voyage sestavlja kvartet pozavnistov\, ki ga dopolnjuje še energična ritem sekcija. Vsi člani so študenti jazz glasbe na Univerzi za umetnost v Grazu. Prihajajo iz različnih držav\, pobudnik in organizator pa je Godba Črnomelj in njen član Andrej Zupančič. Njihova posebnost je edinstveno sozvočje štirih pozavn\, ki ustvarja topel\, poln in prepoznaven zvok. Tekom študija so že večkrat nastopili v Grazu\, maja 2025 pa so dosegli svoj prvi večji uspeh – na mednarodnem glasbenem festivalu v Belgiji so osvojili nagrado 1st Prize cum laude\, kar jim je dalo nov ustvarjalni zagon. Skupina Bone Voyage se podaja na svojo prvo turnejo\, na kateri se bo predstavila z avtorskimi aranžmaji svojih članov\, ki so napisani posebej za to edinstveno zasedbo. Vljudno vabljeni\, da se prepustite nežnim tonom uigranih pozavn. \nZasedba:  \nPrva pozavna: Connor Gentry (Nova Zelandija) \nDruga pozavna: Garazi Petrirena Morales (Španija) \nTretja pozavna: Uroš Silaški (Srbija)  \nBas pozavna: Andrej Zupančič (Slovenija) \nKlavir: Youngeun Park (Južna Koreja) \nBas: Eren Kutlu (Turčija) \nBobni: Julijan Kunej (Slovenija)
URL:https://lokalpatriot.si/dogodek/jazz-vecer-bone-voyage/
LOCATION:kavarna LokalPatriot\, Rozmanova ulica 21\, Novo mesto\, 8000\, Slovenia
CATEGORIES:Koncert
ATTACH;FMTTYPE=image/png:https://lokalpatriot.si/wp-content/uploads/2026/01/tomi-Purich-5.png
END:VEVENT
END:VCALENDAR