BEGIN:VCALENDAR
VERSION:2.0
PRODID:-//LokalPatriot - ECPv6.15.13.1//NONSGML v1.0//EN
CALSCALE:GREGORIAN
METHOD:PUBLISH
X-ORIGINAL-URL:https://lokalpatriot.si
X-WR-CALDESC:Dogodki za LokalPatriot
REFRESH-INTERVAL;VALUE=DURATION:PT1H
X-Robots-Tag:noindex
X-PUBLISHED-TTL:PT1H
BEGIN:VTIMEZONE
TZID:Europe/Ljubljana
BEGIN:DAYLIGHT
TZOFFSETFROM:+0100
TZOFFSETTO:+0200
TZNAME:CEST
DTSTART:20250330T010000
END:DAYLIGHT
BEGIN:STANDARD
TZOFFSETFROM:+0200
TZOFFSETTO:+0100
TZNAME:CET
DTSTART:20251026T010000
END:STANDARD
BEGIN:DAYLIGHT
TZOFFSETFROM:+0100
TZOFFSETTO:+0200
TZNAME:CEST
DTSTART:20260329T010000
END:DAYLIGHT
BEGIN:STANDARD
TZOFFSETFROM:+0200
TZOFFSETTO:+0100
TZNAME:CET
DTSTART:20261025T010000
END:STANDARD
BEGIN:DAYLIGHT
TZOFFSETFROM:+0100
TZOFFSETTO:+0200
TZNAME:CEST
DTSTART:20270328T010000
END:DAYLIGHT
BEGIN:STANDARD
TZOFFSETFROM:+0200
TZOFFSETTO:+0100
TZNAME:CET
DTSTART:20271031T010000
END:STANDARD
END:VTIMEZONE
BEGIN:VEVENT
DTSTART;TZID=Europe/Ljubljana:20260117T203000
DTEND;TZID=Europe/Ljubljana:20260117T223000
DTSTAMP:20260419T234903
CREATED:20260111T113930Z
LAST-MODIFIED:20260111T113930Z
UID:13882-1768681800-1768689000@lokalpatriot.si
SUMMARY:Glasbeni kviz
DESCRIPTION:Vabljeni na tematski – GLASBENI KVIZ – v kavarno LokalPatriot. Potekal bo v soboto\, 17. januarja\, ob 20.30\, namenjen pa je vsem generacijam. Kviz bo sestavljen iz več sklopov\, ki bodo obravnavali glasbo in izvajalce iz različnih obdobij\, ugibanje melodij\, besedil\, glasbe sveta\, glasbeno teorijo\, glasbo filmov\, serij in mnogo več. \n📅 Kdaj? Sobota\, 17. 1. 2026\, ob 20.30\n📍 Kje? Kavarna LokalPatriot\n👥 Velikost ekipe: 3–4 člani\n📥 Prijava: Google Forms / Mail: lokalpatriot@lokalpatriot.si / Instagram ZS\n💰 Prijavnina: Brezplačno!\n🏆 Nagrada za najboljšo ekipo.
URL:https://lokalpatriot.si/dogodek/glasbeni-kviz/
LOCATION:kavarna LokalPatriot\, Rozmanova ulica 21\, Novo mesto\, 8000\, Slovenia
CATEGORIES:Kviz
ATTACH;FMTTYPE=image/png:https://lokalpatriot.si/wp-content/uploads/2026/01/GLASBENI-KVIZ-3.png
END:VEVENT
END:VCALENDAR