BEGIN:VCALENDAR
VERSION:2.0
PRODID:-//LokalPatriot - ECPv6.15.13.1//NONSGML v1.0//EN
CALSCALE:GREGORIAN
METHOD:PUBLISH
X-ORIGINAL-URL:https://lokalpatriot.si
X-WR-CALDESC:Dogodki za LokalPatriot
REFRESH-INTERVAL;VALUE=DURATION:PT1H
X-Robots-Tag:noindex
X-PUBLISHED-TTL:PT1H
BEGIN:VTIMEZONE
TZID:Europe/Ljubljana
BEGIN:DAYLIGHT
TZOFFSETFROM:+0100
TZOFFSETTO:+0200
TZNAME:CEST
DTSTART:20250330T010000
END:DAYLIGHT
BEGIN:STANDARD
TZOFFSETFROM:+0200
TZOFFSETTO:+0100
TZNAME:CET
DTSTART:20251026T010000
END:STANDARD
BEGIN:DAYLIGHT
TZOFFSETFROM:+0100
TZOFFSETTO:+0200
TZNAME:CEST
DTSTART:20260329T010000
END:DAYLIGHT
BEGIN:STANDARD
TZOFFSETFROM:+0200
TZOFFSETTO:+0100
TZNAME:CET
DTSTART:20261025T010000
END:STANDARD
BEGIN:DAYLIGHT
TZOFFSETFROM:+0100
TZOFFSETTO:+0200
TZNAME:CEST
DTSTART:20270328T010000
END:DAYLIGHT
BEGIN:STANDARD
TZOFFSETFROM:+0200
TZOFFSETTO:+0100
TZNAME:CET
DTSTART:20271031T010000
END:STANDARD
END:VTIMEZONE
BEGIN:VEVENT
DTSTART;TZID=Europe/Ljubljana:20260116T180000
DTEND;TZID=Europe/Ljubljana:20260116T200000
DTSTAMP:20260419T235135
CREATED:20260106T122443Z
LAST-MODIFIED:20260106T122443Z
UID:13878-1768586400-1768593600@lokalpatriot.si
SUMMARY:Pogovorni večer z Boštjanom Nipičem (Nipke): Tvoja revolucija
DESCRIPTION:Vabljeni na pogovorni večer z Boštjanom Nipičem (Nipke) in gostoma Miho Zimškom in Rokom Kuraltom z naslovom Tvoja revolucija. Dogodek bo v petek\, 16. 1. 2026\, ob 18.00.
URL:https://lokalpatriot.si/dogodek/pogovorni-vecer-z-bostjanom-nipicem-nipke-tvoja-revolucija/
LOCATION:kavarna LokalPatriot\, Rozmanova ulica 21\, Novo mesto\, 8000\, Slovenia
CATEGORIES:Okrogla miza
ATTACH;FMTTYPE=image/jpeg:https://lokalpatriot.si/wp-content/uploads/2026/01/da.jpeg
END:VEVENT
END:VCALENDAR