BEGIN:VCALENDAR
VERSION:2.0
PRODID:-//LokalPatriot - ECPv6.15.13.1//NONSGML v1.0//EN
CALSCALE:GREGORIAN
METHOD:PUBLISH
X-ORIGINAL-URL:https://lokalpatriot.si
X-WR-CALDESC:Dogodki za LokalPatriot
REFRESH-INTERVAL;VALUE=DURATION:PT1H
X-Robots-Tag:noindex
X-PUBLISHED-TTL:PT1H
BEGIN:VTIMEZONE
TZID:Europe/Ljubljana
BEGIN:DAYLIGHT
TZOFFSETFROM:+0100
TZOFFSETTO:+0200
TZNAME:CEST
DTSTART:20250330T010000
END:DAYLIGHT
BEGIN:STANDARD
TZOFFSETFROM:+0200
TZOFFSETTO:+0100
TZNAME:CET
DTSTART:20251026T010000
END:STANDARD
BEGIN:DAYLIGHT
TZOFFSETFROM:+0100
TZOFFSETTO:+0200
TZNAME:CEST
DTSTART:20260329T010000
END:DAYLIGHT
BEGIN:STANDARD
TZOFFSETFROM:+0200
TZOFFSETTO:+0100
TZNAME:CET
DTSTART:20261025T010000
END:STANDARD
BEGIN:DAYLIGHT
TZOFFSETFROM:+0100
TZOFFSETTO:+0200
TZNAME:CEST
DTSTART:20270328T010000
END:DAYLIGHT
BEGIN:STANDARD
TZOFFSETFROM:+0200
TZOFFSETTO:+0100
TZNAME:CET
DTSTART:20271031T010000
END:STANDARD
END:VTIMEZONE
BEGIN:VEVENT
DTSTART;TZID=Europe/Ljubljana:20260115T190000
DTEND;TZID=Europe/Ljubljana:20260115T210000
DTSTAMP:20260419T235341
CREATED:20260111T172409Z
LAST-MODIFIED:20260111T172723Z
UID:13895-1768503600-1768510800@lokalpatriot.si
SUMMARY:Alias večer
DESCRIPTION:V četrtek\, 15. januarja\, ob 19.00 vabljeni v kavarno LokalPatriot na Alias večer! \nIgrali bomo družabno igro Alias – hitro in zabavno in igro komunikacije\, ki je zelo podobna Activityju. Cilj je preprost: soigralcem z besedami razložiti pojem\, ne da bi uporabili določene besede. Smeh in dobra volja zagotovljena 😄 \n👉 Prijavite se lahko kot skupina ali pridete sami \nPrijava: Google Forms ali IG zs \nSe vidimo v četrtek v LokalPatriotu
URL:https://lokalpatriot.si/dogodek/alias-vecer/
LOCATION:kavarna LokalPatriot\, Rozmanova ulica 21\, Novo mesto\, 8000\, Slovenia
CATEGORIES:Družabni večer
ATTACH;FMTTYPE=image/png:https://lokalpatriot.si/wp-content/uploads/2026/01/Alias-vecer.png
END:VEVENT
END:VCALENDAR